BEGIN:VCALENDAR
VERSION:2.0
PRODID:-//Le Melies - ECPv6.0.13.1//NONSGML v1.0//EN
CALSCALE:GREGORIAN
METHOD:PUBLISH
X-WR-CALNAME:Le Melies
X-ORIGINAL-URL:https://www.lemelies.com
X-WR-CALDESC:évènements pour Le Melies
REFRESH-INTERVAL;VALUE=DURATION:PT1H
X-Robots-Tag:noindex
X-PUBLISHED-TTL:PT1H
BEGIN:VTIMEZONE
TZID:Europe/Paris
BEGIN:DAYLIGHT
TZOFFSETFROM:+0100
TZOFFSETTO:+0200
TZNAME:CEST
DTSTART:20260329T010000
END:DAYLIGHT
BEGIN:STANDARD
TZOFFSETFROM:+0200
TZOFFSETTO:+0100
TZNAME:CET
DTSTART:20261025T010000
END:STANDARD
END:VTIMEZONE
BEGIN:VEVENT
DTSTART;TZID=Europe/Paris:20260202T202000
DTEND;TZID=Europe/Paris:20260316T202000
DTSTAMP:20260421T023344
CREATED:20260109T185011Z
LAST-MODIFIED:20260127T143717Z
UID:10000392-1770063600-1773692400@www.lemelies.com
SUMMARY:LA VIE PLUS BELLE - Saison 3
DESCRIPTION:Remake autogéré stéphanois de la célèbre série marseillaise où quiconque peut participer : pas besoin de compétences ni d’expérience ! \n\nPour participer\, écrivez-nous : pblv2@tuta.io\nInsta :@lavie_plusbelle42\n\nÉpisode 3 « Samia anti-validiste » : Lundi 2 février à 20h20\nÉpisode 4 « C’est finito entre Samia et Lucas » : Lundi 16 février à 20h20\nÉpisode 5 « Merdriau tagué ! » : Lundi 2 mars à 20h20\nÉpisode 6 « Nathan\, fan de l’OL ?!!! » : Lundi 16 mars à 20h20\n\nEntrée à prix libre reversée à l’opération tickets suspendus du Méliès
URL:https://www.lemelies.com/evenement/la-vie-plus-belle-3/
LOCATION:Le Méliès Jean Jaurès\, 10 place de Jean Jaurès\, Saint-Etienne\, 42000\, France
CATEGORIES:Évènement
ATTACH;FMTTYPE=image/jpeg:https://www.lemelies.com/wp-content/uploads/2026/01/LVPB-rvb.jpg
END:VEVENT
BEGIN:VEVENT
DTSTART;TZID=Europe/Paris:20260203T183000
DTEND;TZID=Europe/Paris:20260203T183000
DTSTAMP:20260421T023344
CREATED:20260113T152236Z
LAST-MODIFIED:20260113T152236Z
UID:10000462-1770143400-1770143400@www.lemelies.com
SUMMARY:Soirée "Halte au contrôle numérique"
DESCRIPTION:« Pour garantir la sécurité et la stabilité dans la continuité\, la République sera bientôt réorganisée et deviendra la première puissance galactique impériale pour une société fondée sur l’ordre et la sécurité. » Ainsi parle l’Empereur Palpatine\, alias Dark Sidious\, l’un des méchants les plus emblématiques et machiavéliques de la saga Star Wars. \nC’est par cette citation que débute le reportage vidéo SOUS SURVEILLANCE réalisé par un groupe d’étudiants de l’École des Mines. Dans le cadre d’un Projet Citoyen en partenariat avec le collectif stéphanois Halte au Contrôle Numérique\, ils ont retracé l’histoire de la vidéo surveillance et se sont interrogés sur son impact grandissant dans nos sociétés\, partant du principe que ces technologies soulèvent des enjeux majeurs en termes de libertés individuelles et collectives. \nMartin Drago\, membre de La Quadrature du Net\, participera à cette soirée. Il présentera son dernier ouvrage paru en octobre de cette année : Caméras sous surveillance – Luttes contre l’œil électronique\, ouvrage dans lequel il s’est intéressé aux personnes et collectifs qui ont refusé les caméras de vidéosurveillance\, en mettant en lumière cette résistance qui persiste.\nSoirée organisée par Halte au Contrôle Numérique en partenariat avec la librairie Lune et l’Autre et Zoomacom \nEntrée à prix libre
URL:https://www.lemelies.com/evenement/soiree-halte-au-controle-numerique/
LOCATION:Le Méliès Saint-François\, 8 rue de la valse\, Saint-Etienne\, 42000\, France
CATEGORIES:Évènement
ATTACH;FMTTYPE=image/jpeg:https://www.lemelies.com/wp-content/uploads/2026/01/couv-livre-draggo.jpg
END:VEVENT
BEGIN:VEVENT
DTSTART;TZID=Europe/Paris:20260203T190000
DTEND;TZID=Europe/Paris:20260203T190000
DTSTAMP:20260421T023344
CREATED:20230529T135633Z
LAST-MODIFIED:20260116T155939Z
UID:10000026-1770145200-1770145200@www.lemelies.com
SUMMARY:SOIRÉE POCHETTE SURPRISE
DESCRIPTION:19h00 : Présentation des films\, évènements et bandes annonces du mois de février (entrée libre)\n20h00 : Apéritif de l’amitié offert Biocoop les Arcades\, la boulangerie Le Pain du Loup\, etTakubeh Kombucha\n20h30 : AVANT-PREMIÈRE d’un film SURPRISE programmé au Méliès en février (Tarif spécial 5€)
URL:https://www.lemelies.com/evenement/soiree-pochette-surprise/
LOCATION:Le Méliès Saint-François\, 8 rue de la valse\, Saint-Etienne\, 42000\, France
CATEGORIES:Évènement
ATTACH;FMTTYPE=image/jpeg:https://www.lemelies.com/wp-content/uploads/2023/05/Pochette-3-scaled.jpg
END:VEVENT
BEGIN:VEVENT
DTSTART;TZID=Europe/Paris:20260204T203000
DTEND;TZID=Europe/Paris:20260204T203000
DTSTAMP:20260421T023344
CREATED:20251108T161432Z
LAST-MODIFIED:20260203T144445Z
UID:10000426-1770237000-1770237000@www.lemelies.com
SUMMARY:Ciné-Club de l’UJM #5 // VIRGIN SUICIDES
DESCRIPTION:Projection du film VIRGIN SUICIDES avec introduction et échange post film en salle animé par Vincent Jaunas (maître de conférences en cinéma\, Université Jean Monnet) et Arnaud Moussart (Université Jean Monnet)
URL:https://www.lemelies.com/evenement/cine-club-de-lujm-2-john-carpenter/
LOCATION:Le Méliès Saint-François\, 8 rue de la valse\, Saint-Etienne\, 42000\, France
CATEGORIES:Évènement
ATTACH;FMTTYPE=image/jpeg:https://www.lemelies.com/wp-content/uploads/2025/11/AFF-VIRGIN-SUICIDES-1-scaled-1.jpg
END:VEVENT
END:VCALENDAR