BEGIN:VCALENDAR
VERSION:2.0
PRODID:-//Le Melies - ECPv6.0.13.1//NONSGML v1.0//EN
CALSCALE:GREGORIAN
METHOD:PUBLISH
X-WR-CALNAME:Le Melies
X-ORIGINAL-URL:https://www.lemelies.com
X-WR-CALDESC:évènements pour Le Melies
REFRESH-INTERVAL;VALUE=DURATION:PT1H
X-Robots-Tag:noindex
X-PUBLISHED-TTL:PT1H
BEGIN:VTIMEZONE
TZID:Europe/Paris
BEGIN:DAYLIGHT
TZOFFSETFROM:+0100
TZOFFSETTO:+0200
TZNAME:CEST
DTSTART:20260329T010000
END:DAYLIGHT
BEGIN:STANDARD
TZOFFSETFROM:+0200
TZOFFSETTO:+0100
TZNAME:CET
DTSTART:20261025T010000
END:STANDARD
END:VTIMEZONE
BEGIN:VEVENT
DTSTART;TZID=Europe/Paris:20260113T190000
DTEND;TZID=Europe/Paris:20260113T190000
DTSTAMP:20260421T035916
CREATED:20260107T160457Z
LAST-MODIFIED:20260107T165843Z
UID:10000456-1768330800-1768330800@www.lemelies.com
SUMMARY:Ciné-Philo // FATHER MOTHER SISTER BROTHER
DESCRIPTION:Projection du film FATHER\, MOTHER\, SISTER\, BROTHER suivie d’une discussion en presence de Mylène Korzeniowski (psychologue clinicienne) et Lucie Duchand (éducatrice spécialisée pour l’animation) \nOrganisé par les Ambassadeur.ices 15-25 du Méliès et le Lycée H. Urfé
URL:https://www.lemelies.com/evenement/cine-philo-father-mother-sister-brother-2/
LOCATION:Le Méliès Jean Jaurès\, 10 place de Jean Jaurès\, Saint-Etienne\, 42000\, France
CATEGORIES:Évènement
ATTACH;FMTTYPE=image/jpeg:https://www.lemelies.com/wp-content/uploads/2026/01/DES5JYAG-2.jpg
END:VEVENT
BEGIN:VEVENT
DTSTART;TZID=Europe/Paris:20260116T134500
DTEND;TZID=Europe/Paris:20260116T134500
DTSTAMP:20260421T035916
CREATED:20251111T172006Z
LAST-MODIFIED:20260113T121939Z
UID:10000432-1768571100-1768571100@www.lemelies.com
SUMMARY:Méliès Classique + // GATSBY LE MAGNIFIQUE
DESCRIPTION:Projection du film GATSBY LE MAGNIFIQUE de Jack Clayton précédée d’une introduction à l’œuvre de Scott Fitzgerald par Elisabeth Bouzonvillers (professeure émérite de littérature américaine\, UJM)
URL:https://www.lemelies.com/evenement/melies-classique-la-fille-a-la-valise/
LOCATION:Le Méliès Saint-François\, 8 rue de la valse\, Saint-Etienne\, 42000\, France
CATEGORIES:Évènement
ATTACH;FMTTYPE=image/jpeg:https://www.lemelies.com/wp-content/uploads/2025/11/cf172edaf4fe71ff73db949899390f9c.jpg
END:VEVENT
BEGIN:VEVENT
DTSTART;TZID=Europe/Paris:20260117T190000
DTEND;TZID=Europe/Paris:20260117T190000
DTSTAMP:20260421T035916
CREATED:20250905T155141Z
LAST-MODIFIED:20260107T171249Z
UID:10000393-1768676400-1768676400@www.lemelies.com
SUMMARY:TISANE CLUB // L'Intégrale
DESCRIPTION:Projection de l’intégralité des épisodes de la série « TISANE CLUB » + concert + buvette\nTarif = 5€ \nZEIST est un jeune collectif amateur et passionné de cinéma né à Saint-Étienne\, leur première création\, Tisane Club\, est une série de 7 épisodes. On y suit\, dans les années 70\, quatre amis qui réalisent une émission de télévision consacrée aux phénomènes paranormaux. Au cœur des aléas de la vie\, le projet laisse surgir le surréalisme et l’absurde… \nRéalisation et scénario : Clovis Conseillon et Quentin Garand \nMontage : Quentin Garand \nActeurs principaux : Simon Defour\, Romain Jourdan\, Clovis Conseillon\, Quentin Garand\, Marie-Lou Vidal\, Ethan Lissillour\, Lilou Buffin\, Arthur Masson\, Hervé Philippon\, Camille Olympe\, Tibor Frecenon et François Jacquet \nTechnique : Lucien Lestard\, Clovis Conseillon\, Quentin Garand\, Romain Jourdan\, Simon Defour\, Maela Abed\, Charlotte Grisafi\, Charles Sorce\, Robin Piquée\, Jules Juban
URL:https://www.lemelies.com/evenement/tisane-club/
LOCATION:Le Méliès Saint-François\, 8 rue de la valse\, Saint-Etienne\, 42000\, France
CATEGORIES:Évènement
ATTACH;FMTTYPE=image/png:https://www.lemelies.com/wp-content/uploads/2025/09/Tisane-Club-e1757087472312.png
END:VEVENT
END:VCALENDAR