BEGIN:VCALENDAR
VERSION:2.0
PRODID:-//Le Melies - ECPv6.0.13.1//NONSGML v1.0//EN
CALSCALE:GREGORIAN
METHOD:PUBLISH
X-ORIGINAL-URL:https://www.lemelies.com
X-WR-CALDESC:évènements pour Le Melies
REFRESH-INTERVAL;VALUE=DURATION:PT1H
X-Robots-Tag:noindex
X-PUBLISHED-TTL:PT1H
BEGIN:VTIMEZONE
TZID:Europe/Paris
BEGIN:DAYLIGHT
TZOFFSETFROM:+0100
TZOFFSETTO:+0200
TZNAME:CEST
DTSTART:20250330T010000
END:DAYLIGHT
BEGIN:STANDARD
TZOFFSETFROM:+0200
TZOFFSETTO:+0100
TZNAME:CET
DTSTART:20251026T010000
END:STANDARD
END:VTIMEZONE
BEGIN:VEVENT
DTSTART;TZID=Europe/Paris:20251222T203000
DTEND;TZID=Europe/Paris:20251222T203000
DTSTAMP:20260421T040032
CREATED:20251206T185323Z
LAST-MODIFIED:20251206T185323Z
UID:10000450-1766435400-1766435400@www.lemelies.com
SUMMARY:Ciné-Rencontre // FENWICK
DESCRIPTION:Projection du documentaire FENWICK et du court métrage LA LIBERTÉ CA S’ARRACHE ! en présence de leur réalisatrice d’origine stéphanoise Léna Ichkhania \nFENWICK\n1h15 | France | 2025 | Documentaire | De Léna Ichkhanian \nPartant des traces laissées par le mouvement des Gilets Jaunes\, Fenwick entreprend une traversée de la France en quête d’un mot\, d’un visage\, d’un souffle : celui de la colère sociale. Le film écoute celles et ceux qui la portent ou l’ont portée – retraités\, jeunes\, anciens manifestants\, ex-CRS\, habitants de quartiers populaires – pour tenter de nommer ce sentiment diffus qui habite plus que jamais le pays.
URL:https://www.lemelies.com/evenement/cine-rencontre-fenwick/
LOCATION:Le Méliès Saint-François\, 8 rue de la valse\, Saint-Etienne\, 42000\, France
CATEGORIES:Évènement
ATTACH;FMTTYPE=image/jpeg:https://www.lemelies.com/wp-content/uploads/2025/12/illustration-fenwick_1-1764662210.jpg
END:VEVENT
END:VCALENDAR