BEGIN:VCALENDAR
VERSION:2.0
PRODID:-//Le Melies - ECPv6.0.13.1//NONSGML v1.0//EN
CALSCALE:GREGORIAN
METHOD:PUBLISH
X-WR-CALNAME:Le Melies
X-ORIGINAL-URL:https://www.lemelies.com
X-WR-CALDESC:évènements pour Le Melies
REFRESH-INTERVAL;VALUE=DURATION:PT1H
X-Robots-Tag:noindex
X-PUBLISHED-TTL:PT1H
BEGIN:VTIMEZONE
TZID:Europe/Paris
BEGIN:DAYLIGHT
TZOFFSETFROM:+0100
TZOFFSETTO:+0200
TZNAME:CEST
DTSTART:20250330T010000
END:DAYLIGHT
BEGIN:STANDARD
TZOFFSETFROM:+0200
TZOFFSETTO:+0100
TZNAME:CET
DTSTART:20251026T010000
END:STANDARD
END:VTIMEZONE
BEGIN:VEVENT
DTSTART;TZID=Europe/Paris:20251219T191500
DTEND;TZID=Europe/Paris:20251219T191500
DTSTAMP:20260421T051117
CREATED:20241208T185449Z
LAST-MODIFIED:20251206T183300Z
UID:10000300-1766171700-1766171700@www.lemelies.com
SUMMARY:Ciné-Club Lycée Honoré d'Urfé // KNEECAP
DESCRIPTION:Projection du film KNEECAP coup de cœur des lycéens aux 27ème Rencontres des Cinémas d’Europe d’Aubenas \nPrésentation par les élèves de ce film vif et engagé\, qui nous plonge dans l’énergie créative d’un groupe de rap gaélique\, tout en nous amenant à nous questionner sur les dérives et les dangers liés à la consommation de drogue.
URL:https://www.lemelies.com/evenement/cine-club-lycee-honore-durfe-en-fanfare/
LOCATION:Le Méliès Saint-François\, 8 rue de la valse\, Saint-Etienne\, 42000\, France
CATEGORIES:Évènement
ATTACH;FMTTYPE=image/jpeg:https://www.lemelies.com/wp-content/uploads/2024/12/3b9e781753782d6815978316d1515d0e.jpg
END:VEVENT
BEGIN:VEVENT
DTSTART;TZID=Europe/Paris:20251219T193000
DTEND;TZID=Europe/Paris:20251219T193000
DTSTAMP:20260421T051117
CREATED:20251206T182413Z
LAST-MODIFIED:20251206T182413Z
UID:10000449-1766172600-1766172600@www.lemelies.com
SUMMARY:Soirée Brésilienne // L'AGENT SECRET
DESCRIPTION:Projection du film L’AGENT SECRET animée par le Centre Culturel Brésilien de Saint-Étienne \n+ after musical
URL:https://www.lemelies.com/evenement/soiree-bresilienne-lagent-secret/
LOCATION:Le Méliès Jean Jaurès\, 10 place de Jean Jaurès\, Saint-Etienne\, 42000\, France
CATEGORIES:Évènement
ATTACH;FMTTYPE=image/jpeg:https://www.lemelies.com/wp-content/uploads/2025/12/LAGENT-SECRET_120-SD.jpg
END:VEVENT
BEGIN:VEVENT
DTSTART;TZID=Europe/Paris:20251221T103000
DTEND;TZID=Europe/Paris:20251221T103000
DTSTAMP:20260421T051117
CREATED:20251206T174444Z
LAST-MODIFIED:20251206T174638Z
UID:10000447-1766313000-1766313000@www.lemelies.com
SUMMARY:Ciné-Échange // LE CHANT DES FORÊTS
DESCRIPTION:Projection du documentaire LE CHANT DES FORÊTS + échange sur les chants des oiseaux rares de la forêt avec Jean-Baptiste Martineau\, ornithologue (LPO Loire)
URL:https://www.lemelies.com/evenement/cine-echange-le-chant-des-forets/
LOCATION:Le Méliès Jean Jaurès\, 10 place de Jean Jaurès\, Saint-Etienne\, 42000\, France
CATEGORIES:Évènement
ATTACH;FMTTYPE=image/jpeg:https://www.lemelies.com/wp-content/uploads/2025/12/120x160-le-chant-des-forets-07_10-hd.jpg
END:VEVENT
END:VCALENDAR