BEGIN:VCALENDAR
VERSION:2.0
PRODID:-//Le Melies - ECPv6.0.13.1//NONSGML v1.0//EN
CALSCALE:GREGORIAN
METHOD:PUBLISH
X-ORIGINAL-URL:https://www.lemelies.com
X-WR-CALDESC:évènements pour Le Melies
REFRESH-INTERVAL;VALUE=DURATION:PT1H
X-Robots-Tag:noindex
X-PUBLISHED-TTL:PT1H
BEGIN:VTIMEZONE
TZID:Europe/Paris
BEGIN:DAYLIGHT
TZOFFSETFROM:+0100
TZOFFSETTO:+0200
TZNAME:CEST
DTSTART:20250330T010000
END:DAYLIGHT
BEGIN:STANDARD
TZOFFSETFROM:+0200
TZOFFSETTO:+0100
TZNAME:CET
DTSTART:20251026T010000
END:STANDARD
END:VTIMEZONE
BEGIN:VEVENT
DTSTART;TZID=Europe/Paris:20251008T190000
DTEND;TZID=Europe/Paris:20251008T190000
DTSTAMP:20260421T081031
CREATED:20250929T154048Z
LAST-MODIFIED:20251002T144652Z
UID:10000401-1759950000-1759950000@www.lemelies.com
SUMMARY:Ciné-rencontre avec le comédien stéphanois Antoine Besson
DESCRIPTION:Projection du film NOUVELLE VAGUE suivie d’une rencontre en présence du comédien Antoine Besson\, interprète de Claude Chabrol dans le film
URL:https://www.lemelies.com/evenement/cine-rencontre-avec-le-comedien-stephanois-antoine-besson/
LOCATION:Le Méliès Jean Jaurès\, 10 place de Jean Jaurès\, Saint-Etienne\, 42000\, France
CATEGORIES:Évènement
ATTACH;FMTTYPE=image/jpeg:https://www.lemelies.com/wp-content/uploads/2025/09/NOUVELLE-VAGUE-I-120x160_SD.jpg
END:VEVENT
BEGIN:VEVENT
DTSTART;TZID=Europe/Paris:20251009T203000
DTEND;TZID=Europe/Paris:20251009T203000
DTSTAMP:20260421T081031
CREATED:20250926T134351Z
LAST-MODIFIED:20250926T135039Z
UID:10000397-1760041800-1760041800@www.lemelies.com
SUMMARY:Ciné-Débat // HORS SERVICE
DESCRIPTION:Ciné-débat « Souffrance au travail et état du service public »\nProjection du film HORS SERVICE suivie d’un débat en présence du réalisateur du film Jean Boiron-Lajous et de l’association « Des mots pour panser »
URL:https://www.lemelies.com/evenement/cine-debat-hors-service/
LOCATION:Le Méliès Saint-François\, 8 rue de la valse\, Saint-Etienne\, 42000\, France
ATTACH;FMTTYPE=image/jpeg:https://www.lemelies.com/wp-content/uploads/2025/09/HS-AFF-FINAL-A4.jpg
END:VEVENT
BEGIN:VEVENT
DTSTART;TZID=Europe/Paris:20251009T210000
DTEND;TZID=Europe/Paris:20251009T210000
DTSTAMP:20260421T081031
CREATED:20250929T154325Z
LAST-MODIFIED:20251006T125608Z
UID:10000402-1760043600-1760043600@www.lemelies.com
SUMMARY:Soirée Workshop Dignity By Design For Sex Workers
DESCRIPTION:Projection du film DOUX AMER suivie d’une discussion Le film « Doux­ Amer » est une d’ethnofiction réalisée dans le cadre d’un projet de recherche européen (Sexual Humanitarianism : Migration\, Sex Work and Trafficking) coordonné par Nicola Mai. Il est le résultat d’ateliers d’écriture qui ont rassemblé 11 femmes chinoises migrantes ayant eu une expérience de travail sexuel à Paris. Le scénario né de ces ateliers n’a jamais pu être tourné du fait de l’épidémie de covid­19. Toutefois\, en coopération avec l’association de femmes chinoises Roses d’Acier et avec la productrice Xiaowa Niu\, « Doux Amer » propose un dispositif original pour mettre en scène ce scénario inachevé et le dialogue noué avec les chercheur-­e­s.
URL:https://www.lemelies.com/evenement/soiree-workshop-sexual-humanitarianism-migration-sex-work-and-trafficking/
LOCATION:Le Méliès Jean Jaurès\, 10 place de Jean Jaurès\, Saint-Etienne\, 42000\, France
CATEGORIES:Évènement
ATTACH;FMTTYPE=image/png:https://www.lemelies.com/wp-content/uploads/2025/09/DOUXAMER.png
END:VEVENT
END:VCALENDAR