BEGIN:VCALENDAR
VERSION:2.0
PRODID:-//Le Melies - ECPv6.0.13.1//NONSGML v1.0//EN
CALSCALE:GREGORIAN
METHOD:PUBLISH
X-ORIGINAL-URL:https://www.lemelies.com
X-WR-CALDESC:évènements pour Le Melies
REFRESH-INTERVAL;VALUE=DURATION:PT1H
X-Robots-Tag:noindex
X-PUBLISHED-TTL:PT1H
BEGIN:VTIMEZONE
TZID:Europe/Paris
BEGIN:DAYLIGHT
TZOFFSETFROM:+0100
TZOFFSETTO:+0200
TZNAME:CEST
DTSTART:20250330T010000
END:DAYLIGHT
BEGIN:STANDARD
TZOFFSETFROM:+0200
TZOFFSETTO:+0100
TZNAME:CET
DTSTART:20251026T010000
END:STANDARD
END:VTIMEZONE
BEGIN:VEVENT
DTSTART;TZID=Europe/Paris:20251211T183000
DTEND;TZID=Europe/Paris:20251211T183000
DTSTAMP:20260421T040406
CREATED:20251206T172600Z
LAST-MODIFIED:20251206T172600Z
UID:10000444-1765477800-1765477800@www.lemelies.com
SUMMARY:CLAUDE SIMON\,  les arts et les artistes aujourd’hui
DESCRIPTION:Projection du film CLAUDE SIMON\, L’INÉPUISABLE CHAOS DU MONDE d’Alain Fleischer \nSéance organisé par Cécile Yapaudjian-Labat (laboratoire ECLLA – Université Jean Monnet) et Pascal Mougin (laboratoire CERILAC – Université Paris Cité)\, \nen partenariat avec l’Association des lecteurs de Claude Simon\, avec le soutien de l’Institut ARTS et de la Faculté Arts Lettres et Langues de Saint-Étienne.
URL:https://www.lemelies.com/evenement/claude-simon-les-arts-et-les-artistes-aujourdhui/
LOCATION:Le Méliès Jean Jaurès\, 10 place de Jean Jaurès\, Saint-Etienne\, 42000\, France
CATEGORIES:Évènement
ATTACH;FMTTYPE=image/png:https://www.lemelies.com/wp-content/uploads/2025/12/Impression_CS-et-les-arts-affiche-A3.png
END:VEVENT
BEGIN:VEVENT
DTSTART;TZID=Europe/Paris:20251211T193000
DTEND;TZID=Europe/Paris:20251211T193000
DTSTAMP:20260421T040406
CREATED:20251206T173341Z
LAST-MODIFIED:20251206T173341Z
UID:10000445-1765481400-1765481400@www.lemelies.com
SUMMARY:Ciné-Débat "Le film noir et le polar allemand"
DESCRIPTION:Projection du film de Fatih Akın RHEINGOLD en présence de Nedjma Moussaoui (maître de conférences en études cinématographiques à Lyon 2) qui fera une introduction et animera une discussion avec le public après le film \nOrganisé par le lycée Fauriel en partenariat avec l’URALE et l’Institut Goethe
URL:https://www.lemelies.com/evenement/cine-debat-le-film-noir-et-le-polar-allemand/
LOCATION:Le Méliès Saint-François\, 8 rue de la valse\, Saint-Etienne\, 42000\, France
CATEGORIES:Évènement
ATTACH;FMTTYPE=image/jpeg:https://www.lemelies.com/wp-content/uploads/2025/12/1693617.jpg
END:VEVENT
END:VCALENDAR