BEGIN:VCALENDAR
VERSION:2.0
PRODID:-//Le Melies - ECPv6.0.13.1//NONSGML v1.0//EN
CALSCALE:GREGORIAN
METHOD:PUBLISH
X-ORIGINAL-URL:https://www.lemelies.com
X-WR-CALDESC:évènements pour Le Melies
REFRESH-INTERVAL;VALUE=DURATION:PT1H
X-Robots-Tag:noindex
X-PUBLISHED-TTL:PT1H
BEGIN:VTIMEZONE
TZID:Europe/Paris
BEGIN:DAYLIGHT
TZOFFSETFROM:+0100
TZOFFSETTO:+0200
TZNAME:CEST
DTSTART:20250330T010000
END:DAYLIGHT
BEGIN:STANDARD
TZOFFSETFROM:+0200
TZOFFSETTO:+0100
TZNAME:CET
DTSTART:20251026T010000
END:STANDARD
END:VTIMEZONE
BEGIN:VEVENT
DTSTART;TZID=Europe/Paris:20251112T193000
DTEND;TZID=Europe/Paris:20251112T193000
DTSTAMP:20260421T051556
CREATED:20251108T161026Z
LAST-MODIFIED:20251108T161026Z
UID:10000425-1762975800-1762975800@www.lemelies.com
SUMMARY:Séance Pépite – Débat // ON VOUS CROIT
DESCRIPTION:Projection du film ON VOUS CROIT en présence des associations ENFANCE & PARTAGE\, association de protection et défense des enfants victimes de toutes formes de violences (physiques\, psychologiques ou sexuelles)\, le CIDFF\, centre d’information sur les droits des femmes et des familles et l’AMJPP\, association du Master Justice\, Procès et Procédures \nSéance animée par nos Ambassadeur.ices 15-25
URL:https://www.lemelies.com/evenement/seance-pepite-debat-on-vous-croit/
LOCATION:Le Méliès Jean Jaurès\, 10 place de Jean Jaurès\, Saint-Etienne\, 42000\, France
CATEGORIES:Évènement
ATTACH;FMTTYPE=image/jpeg:https://www.lemelies.com/wp-content/uploads/2025/11/Affiche-ON-VOUS-CROIT-scaled.jpg
END:VEVENT
BEGIN:VEVENT
DTSTART;TZID=Europe/Paris:20251113T180000
DTEND;TZID=Europe/Paris:20251113T203000
DTSTAMP:20260421T051556
CREATED:20251029T162736Z
LAST-MODIFIED:20251029T162736Z
UID:10000417-1763056800-1763065800@www.lemelies.com
SUMMARY:Ciné-Débat : Un si long silence
DESCRIPTION:Diffusion du film « Un si long silence » retraçant le parcours de la championne de patinage artistique Sarah ABITBOL suivi d’un débat animé.\n\n\n\n🎬 Projection-débat « Un si long silence »\nAvec la présence de Sarah ABITBOL \nLe service départemental à la jeunesse\, à l’engagement et aux sports de la Loire organise\, en partenariat avec l’association La Voix de Sarah\, une soirée autour du film documentaire « Un si long silence »\, retraçant le parcours de l’ancienne championne de patinage artistique Sarah ABITBOL suivi d’un échange avec le public sur les violences sexistes et sexuelles dans le sport. \nÉvènement gratuit mais inscription obligatoire (places limitées) : https://www.eventbrite.fr/e/billets-cine-debat-un-si-long-silence-sarah-abitbol-1601881252949?aff=oddtdtcreator
URL:https://www.lemelies.com/evenement/cine-debat-un-si-long-silence/
LOCATION:Le Méliès Jean Jaurès\, 10 place de Jean Jaurès\, Saint-Etienne\, 42000\, France
CATEGORIES:Évènement
ATTACH;FMTTYPE=image/jpeg:https://www.lemelies.com/wp-content/uploads/2025/10/https___cdn.evbuc_.com_images_1098490733_2868632182401_1_original.jpg
END:VEVENT
BEGIN:VEVENT
DTSTART;TZID=Europe/Paris:20251113T203000
DTEND;TZID=Europe/Paris:20251113T203000
DTSTAMP:20260421T051556
CREATED:20251108T162001Z
LAST-MODIFIED:20251108T162001Z
UID:10000427-1763065800-1763065800@www.lemelies.com
SUMMARY:Ciné-Débat "Révolte étudiante mondiale pour la Palestine" // OCCUPATIONS
DESCRIPTION:Projection du documentaire OCCUPATIONS + débat animé par le collectif BDS Sainté\, l’Organisation Syndicale Étudiante CGT\, en présence d’un membre de Stop Arming Israël & de Sam Leter du Decolonial Film Festival
URL:https://www.lemelies.com/evenement/cine-debat-revolte-etudiante-mondiale-pour-la-palestine-occupations/
LOCATION:Le Méliès Saint-François\, 8 rue de la valse\, Saint-Etienne\, 42000\, France
CATEGORIES:Évènement
ATTACH;FMTTYPE=image/jpeg:https://www.lemelies.com/wp-content/uploads/2025/11/V35TSUG6-1.jpg
END:VEVENT
BEGIN:VEVENT
DTSTART;VALUE=DATE:20251114
DTEND;VALUE=DATE:20251117
DTSTAMP:20260421T051556
CREATED:20251108T163755Z
LAST-MODIFIED:20251109T145110Z
UID:10000428-1763078400-1763337599@www.lemelies.com
SUMMARY:FACE À FACE // le festival du film Queer de Saint-Étienne
DESCRIPTION:Le Festival du Film Queer de Saint-Étienne revient du 14 au 16 novembre aux cinémas Le Méliès pour une nouvelle édition pleine d’émotions\, de rires et de découvertes. \nAu programme : des films venus du monde entier\, des rencontres\, des soirées festives et surtout… de la bienveillance et du partage 🌈 \nEN SAVOIR PLUS \n\nLOVE ME TENDER : vendredi 14 nov 20h30 [Méliès Jean Jaurès]\nENTRE DEUX EAUX : samedi 15 nov 13h00 [Méliès Saint-François]\nCLOSE TO YOU : samedi 15 nov 15h00 [Méliès Saint-François]\nMASPALOMAS : samedi 15 nov 17h45 [Méliès Saint-François]\nSKIFF : dimanche 16 nov 13h00 [Méliès Saint-François]\nEGOIST : dimanche 16 nov 15h15 [Méliès Saint-François]\nDES PREUVES D’AMOUR : dimanche 16 nov 17h45 [Méliès Saint-François]\nA SINGLE MAN : dimanche 16 nov 20h00 [Méliès Saint-François]
URL:https://www.lemelies.com/evenement/face-a-face-le-festival-du-film-queer-de-saint-etienne/
CATEGORIES:Évènement
ATTACH;FMTTYPE=image/png:https://www.lemelies.com/wp-content/uploads/2025/11/affiche-Festival-Face-a-Face-2025.png
END:VEVENT
END:VCALENDAR