BEGIN:VCALENDAR
VERSION:2.0
PRODID:-//Le Melies - ECPv6.0.13.1//NONSGML v1.0//EN
CALSCALE:GREGORIAN
METHOD:PUBLISH
X-ORIGINAL-URL:https://www.lemelies.com
X-WR-CALDESC:évènements pour Le Melies
REFRESH-INTERVAL;VALUE=DURATION:PT1H
X-Robots-Tag:noindex
X-PUBLISHED-TTL:PT1H
BEGIN:VTIMEZONE
TZID:Europe/Paris
BEGIN:DAYLIGHT
TZOFFSETFROM:+0100
TZOFFSETTO:+0200
TZNAME:CEST
DTSTART:20260329T010000
END:DAYLIGHT
BEGIN:STANDARD
TZOFFSETFROM:+0200
TZOFFSETTO:+0100
TZNAME:CET
DTSTART:20261025T010000
END:STANDARD
END:VTIMEZONE
BEGIN:VEVENT
DTSTART;TZID=Europe/Paris:20260130T203000
DTEND;TZID=Europe/Paris:20260130T203000
DTSTAMP:20260420T224102
CREATED:20260107T161525Z
LAST-MODIFIED:20260121T141347Z
UID:10000458-1769805000-1769805000@www.lemelies.com
SUMMARY:Ciné-Rencontre // BAISE-EN-VILLE
DESCRIPTION:Projection du film BAISE-EN-VILLE en présence de son réalisateur Martin Jauvat \nBilleterie en ligne : https://www.billetweb.fr/cine-rencontre-baise-en-ville-avec-martin-jauvat \n 
URL:https://www.lemelies.com/evenement/cine-rencontre-baise-en-ville/
LOCATION:Le Méliès Jean Jaurès\, 10 place de Jean Jaurès\, Saint-Etienne\, 42000\, France
CATEGORIES:Évènement
ATTACH;FMTTYPE=image/jpeg:https://www.lemelies.com/wp-content/uploads/2026/01/B-E-V-Affiche-scaled.jpg
END:VEVENT
END:VCALENDAR