BEGIN:VCALENDAR
VERSION:2.0
PRODID:-//Le Melies - ECPv6.0.13.1//NONSGML v1.0//EN
CALSCALE:GREGORIAN
METHOD:PUBLISH
X-WR-CALNAME:Le Melies
X-ORIGINAL-URL:https://www.lemelies.com
X-WR-CALDESC:évènements pour Le Melies
REFRESH-INTERVAL;VALUE=DURATION:PT1H
X-Robots-Tag:noindex
X-PUBLISHED-TTL:PT1H
BEGIN:VTIMEZONE
TZID:Europe/Paris
BEGIN:DAYLIGHT
TZOFFSETFROM:+0100
TZOFFSETTO:+0200
TZNAME:CEST
DTSTART:20250330T010000
END:DAYLIGHT
BEGIN:STANDARD
TZOFFSETFROM:+0200
TZOFFSETTO:+0100
TZNAME:CET
DTSTART:20251026T010000
END:STANDARD
END:VTIMEZONE
BEGIN:VEVENT
DTSTART;TZID=Europe/Paris:20251204T203000
DTEND;TZID=Europe/Paris:20251204T203000
DTSTAMP:20260421T011719
CREATED:20251201T173917Z
LAST-MODIFIED:20251202T182048Z
UID:10000441-1764880200-1764880200@www.lemelies.com
SUMMARY:Ciné-Rencontre #1 // LE PEUPLE MUSICIEN
DESCRIPTION:Projection du documentaire LE PEUPLE MUSICIEN en présence du réalisateur Pierre Simboiselle \nLE PEUPLE MUSICIEN\n0h52 | 2025 | Documentaire | De Pierre Simboiselle | Produit par On Stage Production\, Nos Passerelles\, et TL7 \nLe Peuple musicien est un voyage immersif à travers la campagne ligérienne à la rencontre des orchestres\, harmonies et fanfares qui\, loin des conservatoires et des grandes scènes\, tissent le lien social et culturel de nos villages. À travers l’itinéraire de musiciens de tous âges\, ce film dévoile l’engagement passionné d’amateurs\, réunis par la joie de jouer ensemble\, le plaisir du partage intergénérationnel et la transmission.
URL:https://www.lemelies.com/evenement/cine-rencontre-1-le-peuple-musicien/
LOCATION:Le Méliès Saint-François\, 8 rue de la valse\, Saint-Etienne\, 42000\, France
CATEGORIES:Évènement
ATTACH;FMTTYPE=image/png:https://www.lemelies.com/wp-content/uploads/2025/12/Le-peuple-musicien-poster.png
END:VEVENT
END:VCALENDAR