BEGIN:VCALENDAR
VERSION:2.0
PRODID:-//Le Melies - ECPv6.0.13.1//NONSGML v1.0//EN
CALSCALE:GREGORIAN
METHOD:PUBLISH
X-WR-CALNAME:Le Melies
X-ORIGINAL-URL:https://www.lemelies.com
X-WR-CALDESC:évènements pour Le Melies
REFRESH-INTERVAL;VALUE=DURATION:PT1H
X-Robots-Tag:noindex
X-PUBLISHED-TTL:PT1H
BEGIN:VTIMEZONE
TZID:Europe/Paris
BEGIN:DAYLIGHT
TZOFFSETFROM:+0100
TZOFFSETTO:+0200
TZNAME:CEST
DTSTART:20250330T010000
END:DAYLIGHT
BEGIN:STANDARD
TZOFFSETFROM:+0200
TZOFFSETTO:+0100
TZNAME:CET
DTSTART:20251026T010000
END:STANDARD
END:VTIMEZONE
BEGIN:VEVENT
DTSTART;TZID=Europe/Paris:20251127T193000
DTEND;TZID=Europe/Paris:20251127T193000
DTSTAMP:20260421T024016
CREATED:20251111T173459Z
LAST-MODIFIED:20251111T173459Z
UID:10000435-1764271800-1764271800@www.lemelies.com
SUMMARY:Ciné-Débat "Quelle prison pour faire société" // LA PEINE
DESCRIPTION:Projection du documentaire LA PEINE suivie d’un échange-débat animé par le GPSE dans le cadre des Journées Nationales Prison
URL:https://www.lemelies.com/evenement/cine-debat-quelle-prison-pour-faire-societe-la-peine/
LOCATION:Le Méliès Saint-François\, 8 rue de la valse\, Saint-Etienne\, 42000\, France
CATEGORIES:Évènement
ATTACH;FMTTYPE=image/jpeg:https://www.lemelies.com/wp-content/uploads/2025/11/B69AAYJT-1.jpg
END:VEVENT
END:VCALENDAR