BEGIN:VCALENDAR
VERSION:2.0
PRODID:-//Le Melies - ECPv6.0.13.1//NONSGML v1.0//EN
CALSCALE:GREGORIAN
METHOD:PUBLISH
X-WR-CALNAME:Le Melies
X-ORIGINAL-URL:https://www.lemelies.com
X-WR-CALDESC:évènements pour Le Melies
REFRESH-INTERVAL;VALUE=DURATION:PT1H
X-Robots-Tag:noindex
X-PUBLISHED-TTL:PT1H
BEGIN:VTIMEZONE
TZID:Europe/Paris
BEGIN:DAYLIGHT
TZOFFSETFROM:+0100
TZOFFSETTO:+0200
TZNAME:CEST
DTSTART:20250330T010000
END:DAYLIGHT
BEGIN:STANDARD
TZOFFSETFROM:+0200
TZOFFSETTO:+0100
TZNAME:CET
DTSTART:20251026T010000
END:STANDARD
END:VTIMEZONE
BEGIN:VEVENT
DTSTART;TZID=Europe/Paris:20251120T203000
DTEND;TZID=Europe/Paris:20251120T203000
DTSTAMP:20260421T024017
CREATED:20251111T172658Z
LAST-MODIFIED:20251111T172658Z
UID:10000433-1763670600-1763670600@www.lemelies.com
SUMMARY:Conférence "Sans transition !" // ROB HOPKINS
DESCRIPTION:Sans transition !\, le Salon Tatou Juste et ses partenaires ont le plaisir de vous annoncer que Rob Hopkins sera présent à Saint-Étienne pour une conférence interprétées. \nL’initiateur du mouvement mondial des villes en transition et protagoniste du film Demain répondra ensuite aux questions du public puis proposera une séance de dédicace. \nAlors que nous assistons à la multiplication des phénomènes climatiques extrêmes et à la montée des inégalités\, comment lutter contre le dérèglement climatique et les injustices sociales ? Quelles solutions s’offrent à nous au niveau local pour accélérer la transition ? Comment repenser le fonctionnement des villes et des entreprises pour les rendre plus résilientes ? Relocaliser l’économie\, renforcer les solidarités\, réduire nos consommations d’énergies fossiles mais aussi acquérir les compétences nécessaires à une meilleure autonomie de nos territoires sont les pistes d’actions individuelles et collectives que viendra nous proposer notre expert britannique\, à travers un voyage en 2030\, dans un monde en Transition. \nInfos et inscriptions ICI
URL:https://www.lemelies.com/evenement/conference-sans-transition-rob-hopkins/
LOCATION:Le Méliès Saint-François\, 8 rue de la valse\, Saint-Etienne\, 42000\, France
CATEGORIES:Évènement
ATTACH;FMTTYPE=image/png:https://www.lemelies.com/wp-content/uploads/2025/11/Rob-Hopkins-a-Saint-Etienne_2.png
END:VEVENT
END:VCALENDAR