BEGIN:VCALENDAR
VERSION:2.0
PRODID:-//Le Melies - ECPv6.0.13.1//NONSGML v1.0//EN
CALSCALE:GREGORIAN
METHOD:PUBLISH
X-WR-CALNAME:Le Melies
X-ORIGINAL-URL:https://www.lemelies.com
X-WR-CALDESC:évènements pour Le Melies
REFRESH-INTERVAL;VALUE=DURATION:PT1H
X-Robots-Tag:noindex
X-PUBLISHED-TTL:PT1H
BEGIN:VTIMEZONE
TZID:Europe/Paris
BEGIN:DAYLIGHT
TZOFFSETFROM:+0100
TZOFFSETTO:+0200
TZNAME:CEST
DTSTART:20250330T010000
END:DAYLIGHT
BEGIN:STANDARD
TZOFFSETFROM:+0200
TZOFFSETTO:+0100
TZNAME:CET
DTSTART:20251026T010000
END:STANDARD
END:VTIMEZONE
BEGIN:VEVENT
DTSTART;TZID=Europe/Paris:20251118T200000
DTEND;TZID=Europe/Paris:20251118T200000
DTSTAMP:20260421T024016
CREATED:20251108T165836Z
LAST-MODIFIED:20251108T165836Z
UID:10000430-1763496000-1763496000@www.lemelies.com
SUMMARY:Ciné-Rencontre "Réalisatrice" // LA VOIX DE HIND RAJAB
DESCRIPTION:Avant-première du film LA VOIX DE HIND RAJAB + débat en présence de la réalisatrice Kaouther Ben Hania\, animé par le journaliste de Télérama Samuel Douhaire et retransmis depuis le Méliès de Montreuil
URL:https://www.lemelies.com/evenement/cine-rencontre-realisatrice-la-voix-de-hind-rajab/
LOCATION:Le Méliès Saint-François\, 8 rue de la valse\, Saint-Etienne\, 42000\, France
CATEGORIES:Évènement
ATTACH;FMTTYPE=image/webp:https://www.lemelies.com/wp-content/uploads/2025/11/720e301502cf8abf0fe923440aaf5935.webp
END:VEVENT
END:VCALENDAR