BEGIN:VCALENDAR
VERSION:2.0
PRODID:-//Le Melies - ECPv6.0.13.1//NONSGML v1.0//EN
CALSCALE:GREGORIAN
METHOD:PUBLISH
X-ORIGINAL-URL:https://www.lemelies.com
X-WR-CALDESC:évènements pour Le Melies
REFRESH-INTERVAL;VALUE=DURATION:PT1H
X-Robots-Tag:noindex
X-PUBLISHED-TTL:PT1H
BEGIN:VTIMEZONE
TZID:Europe/Paris
BEGIN:DAYLIGHT
TZOFFSETFROM:+0100
TZOFFSETTO:+0200
TZNAME:CEST
DTSTART:20250330T010000
END:DAYLIGHT
BEGIN:STANDARD
TZOFFSETFROM:+0200
TZOFFSETTO:+0100
TZNAME:CET
DTSTART:20251026T010000
END:STANDARD
END:VTIMEZONE
BEGIN:VEVENT
DTSTART;TZID=Europe/Paris:20251108T161000
DTEND;TZID=Europe/Paris:20251108T161000
DTSTAMP:20260421T024026
CREATED:20251104T153618Z
LAST-MODIFIED:20251105T092453Z
UID:10000423-1762618200-1762618200@www.lemelies.com
SUMMARY:Ciné-Rencontre "Réalisateur" // UNE BELLE RENCONTRE LOIRE EN FOREZ
DESCRIPTION:Projection du film UNE BELLE RENCONTRE EN LOIRE FOREZ suivie d’une discussion en présence de son réalisateur Michel Perrin accompagné de Dany Diat et Frédéric Beal. \nSynopsis \n\nUne belle rencontre que celle du fleuve Loire\, avec l’ancien Comté du Forez. En suivant le cours du fleuve du sud au nord\, depuis les environs de Saint-Etienne\, jusqu’à la proximité de Roanne\, on découvre les paysages et le patrimoine\, comme son histoire. \n« Cette plaine du Forez naît au début de la formation des Alpes. Il va y avoir géologiquement\, des failles et des cassures\, et des blocs vont se créer. Certains vont se surélever. Comme à l’Ouest les monts du Forez\, à l’Est les Monts du Lyonnais. Et un bloc va s’abaisser\, c’est notre plaine du Forez\, dans laquelle va couler notre fleuve\, la Loire ». Nous dit Dany. La Belle rencontre du Fleuve Loire\, avec l’ancien Comté du Forez. Suivons le cours d’eau\, ses gorges\, ses lacs\, ses peines\, et sa navigation au fil des siècles. La Loire et le Forez nous laissent\, divers paysages\, une faune\, des pics basaltiques\, et un riche héritage historique (activités\, villages\, châteaux\, monastères\,…) et culturel (l’Astrée et la Diana). \n\n  \nBilletterie en ligne
URL:https://www.lemelies.com/evenement/cine-rencontre-realisateur-une-belle-rencontre-loire-en-forez/
LOCATION:Le Méliès Saint-François\, 8 rue de la valse\, Saint-Etienne\, 42000\, France
CATEGORIES:Évènement
ATTACH;FMTTYPE=image/jpeg:https://www.lemelies.com/wp-content/uploads/2025/11/9d68c54f89bafaeec1fe8d0fe651646c.jpg
END:VEVENT
BEGIN:VEVENT
DTSTART;TZID=Europe/Paris:20251108T201000
DTEND;TZID=Europe/Paris:20251108T201000
DTSTAMP:20260421T024026
CREATED:20251104T152816Z
LAST-MODIFIED:20251104T152816Z
UID:10000422-1762632600-1762632600@www.lemelies.com
SUMMARY:Séance Pépite - Table ronde // LA VAGUE
DESCRIPTION:Projectiondu film LA VAGUE animée par les Ambassadeur.ices 15-25 du Méliès \nTable ronde autour de la thématique « Art\, Politique et Féminisme »
URL:https://www.lemelies.com/evenement/seance-pepite-table-ronde-la-vague/
LOCATION:Le Méliès Jean Jaurès\, 10 place de Jean Jaurès\, Saint-Etienne\, 42000\, France
CATEGORIES:Évènement
ATTACH;FMTTYPE=image/jpeg:https://www.lemelies.com/wp-content/uploads/2025/11/EXE-120X160-LaVague_Date.0ae32690-4fdf-429a-a261-f7838d7f1d76-scaled.jpg
END:VEVENT
END:VCALENDAR