BEGIN:VCALENDAR
VERSION:2.0
PRODID:-//Le Melies - ECPv6.0.13.1//NONSGML v1.0//EN
CALSCALE:GREGORIAN
METHOD:PUBLISH
X-ORIGINAL-URL:https://www.lemelies.com
X-WR-CALDESC:évènements pour Le Melies
REFRESH-INTERVAL;VALUE=DURATION:PT1H
X-Robots-Tag:noindex
X-PUBLISHED-TTL:PT1H
BEGIN:VTIMEZONE
TZID:Europe/Paris
BEGIN:DAYLIGHT
TZOFFSETFROM:+0100
TZOFFSETTO:+0200
TZNAME:CEST
DTSTART:20250330T010000
END:DAYLIGHT
BEGIN:STANDARD
TZOFFSETFROM:+0200
TZOFFSETTO:+0100
TZNAME:CET
DTSTART:20251026T010000
END:STANDARD
END:VTIMEZONE
BEGIN:VEVENT
DTSTART;TZID=Europe/Paris:20251105T190000
DTEND;TZID=Europe/Paris:20251105T190000
DTSTAMP:20260421T024026
CREATED:20251104T141830Z
LAST-MODIFIED:20251104T141830Z
UID:10000419-1762369200-1762369200@www.lemelies.com
SUMMARY:Ciné-Lions Club // JEAN VALJEAN
DESCRIPTION:Avant-première du film JEAN VALJEAN  \nTarif spécial 10 € (au profit des actions sociales du Club)
URL:https://www.lemelies.com/evenement/cine-lions-club-jean-valjean/
LOCATION:Le Méliès Jean Jaurès\, 10 place de Jean Jaurès\, Saint-Etienne\, 42000\, France
CATEGORIES:Évènement
ATTACH;FMTTYPE=image/jpeg:https://www.lemelies.com/wp-content/uploads/2025/11/JEAN-VALJEAN_120x160_300DPI-scaled.jpg
END:VEVENT
END:VCALENDAR