BEGIN:VCALENDAR
VERSION:2.0
PRODID:-//Le Melies - ECPv6.0.13.1//NONSGML v1.0//EN
CALSCALE:GREGORIAN
METHOD:PUBLISH
X-ORIGINAL-URL:https://www.lemelies.com
X-WR-CALDESC:évènements pour Le Melies
REFRESH-INTERVAL;VALUE=DURATION:PT1H
X-Robots-Tag:noindex
X-PUBLISHED-TTL:PT1H
BEGIN:VTIMEZONE
TZID:Europe/Paris
BEGIN:DAYLIGHT
TZOFFSETFROM:+0100
TZOFFSETTO:+0200
TZNAME:CEST
DTSTART:20250330T010000
END:DAYLIGHT
BEGIN:STANDARD
TZOFFSETFROM:+0200
TZOFFSETTO:+0100
TZNAME:CET
DTSTART:20251026T010000
END:STANDARD
END:VTIMEZONE
BEGIN:VEVENT
DTSTART;TZID=Europe/Paris:20251019T110000
DTEND;TZID=Europe/Paris:20251019T110000
DTSTAMP:20260421T040408
CREATED:20251008T162739Z
LAST-MODIFIED:20251008T171301Z
UID:10000409-1760871600-1760871600@www.lemelies.com
SUMMARY:Avant-Première // ARCO
DESCRIPTION:Avant-première de notre film « coup de cœur » ARCO \n(sortie nationale le 22 octobre)
URL:https://www.lemelies.com/evenement/avant-premiere-arco/
LOCATION:Le Méliès Jean Jaurès\, 10 place de Jean Jaurès\, Saint-Etienne\, 42000\, France
CATEGORIES:Évènement
ATTACH;FMTTYPE=image/jpeg:https://www.lemelies.com/wp-content/uploads/2025/10/ARCO_120_WEB.jpg
END:VEVENT
END:VCALENDAR