BEGIN:VCALENDAR
VERSION:2.0
PRODID:-//Le Melies - ECPv6.0.13.1//NONSGML v1.0//EN
CALSCALE:GREGORIAN
METHOD:PUBLISH
X-ORIGINAL-URL:https://www.lemelies.com
X-WR-CALDESC:évènements pour Le Melies
REFRESH-INTERVAL;VALUE=DURATION:PT1H
X-Robots-Tag:noindex
X-PUBLISHED-TTL:PT1H
BEGIN:VTIMEZONE
TZID:Europe/Paris
BEGIN:DAYLIGHT
TZOFFSETFROM:+0100
TZOFFSETTO:+0200
TZNAME:CEST
DTSTART:20250330T010000
END:DAYLIGHT
BEGIN:STANDARD
TZOFFSETFROM:+0200
TZOFFSETTO:+0100
TZNAME:CET
DTSTART:20251026T010000
END:STANDARD
END:VTIMEZONE
BEGIN:VEVENT
DTSTART;TZID=Europe/Paris:20251014T183000
DTEND;TZID=Europe/Paris:20251014T183000
DTSTAMP:20260421T040351
CREATED:20251007T134522Z
LAST-MODIFIED:20251007T134522Z
UID:10000405-1760466600-1760466600@www.lemelies.com
SUMMARY:Ciné-Débat // MASCUS\, les hommes qui détestent les femmes
DESCRIPTION:Projection du documentaire MASCUS\, les hommes qui détestent les femmes + débat avec SOS Racisme \nMASCUS\, les hommes qui détestent les femmes \nDocumentaire de Pierre Gault (2024 – 52min) \n\n« Les femmes te manipulent »\, « Comment avoir les couilles du mâle alpha ? »\, « Sois dur et exigeant avec les femmes »… Ces vidéos aux titres provocateurs cartonnent sur les réseaux sociaux et cumulent des centaines de milliers de vues. Sous la forme d’une cyber-enquête\, ce documentaire vise à décrypter la manosphère et à en montrer les dangers. Notre journaliste\, Pierre Gault\, s’est « infiltré » dans les forums\, groupes Telegram ou WhatsApp et conversations privées. Banalisation des agressions sexuelles\, appels au viol\, propos misogynes mais aussi racistes\, harcèlements… sa plongée au cœur des communautés masculinistes est vertigineuse et révèle une culture de la haine des femmes.
URL:https://www.lemelies.com/evenement/cine-debat-mascus-les-hommes-qui-detestent-les-femmes/
LOCATION:Le Méliès Saint-François\, 8 rue de la valse\, Saint-Etienne\, 42000\, France
CATEGORIES:Évènement
ATTACH;FMTTYPE=image/webp:https://www.lemelies.com/wp-content/uploads/2025/10/Mascus-les-hommes-qui-detestent-les-femmes.webp
END:VEVENT
END:VCALENDAR