BEGIN:VCALENDAR
VERSION:2.0
PRODID:-//Le Melies - ECPv6.0.13.1//NONSGML v1.0//EN
CALSCALE:GREGORIAN
METHOD:PUBLISH
X-ORIGINAL-URL:https://www.lemelies.com
X-WR-CALDESC:évènements pour Le Melies
REFRESH-INTERVAL;VALUE=DURATION:PT1H
X-Robots-Tag:noindex
X-PUBLISHED-TTL:PT1H
BEGIN:VTIMEZONE
TZID:Europe/Paris
BEGIN:DAYLIGHT
TZOFFSETFROM:+0100
TZOFFSETTO:+0200
TZNAME:CEST
DTSTART:20250330T010000
END:DAYLIGHT
BEGIN:STANDARD
TZOFFSETFROM:+0200
TZOFFSETTO:+0100
TZNAME:CET
DTSTART:20251026T010000
END:STANDARD
END:VTIMEZONE
BEGIN:VEVENT
DTSTART;TZID=Europe/Paris:20250927T203000
DTEND;TZID=Europe/Paris:20251005T110000
DTSTAMP:20260421T040311
CREATED:20241208T165600Z
LAST-MODIFIED:20250905T122238Z
UID:10000298-1759005000-1759662000@www.lemelies.com
SUMMARY:Le Méliès Cultes #4 // ZATOICHI : LE MASSEUR AVEUGLE
DESCRIPTION:Au Méliès on laisse pas les films cultes dans un coin\, vous les avez en dvd on vous les propose au ciné ! \nZATOICHI : LE MASSEUR AVEUGLE \n\nSAMEDI 27 SEPT. À 20H30 [Saint-François]\nDIMANCHE 28 SEPT. À 16H30 [Saint-François]\nDIMANCHE 5 OCT. À 11H00 [Jean Jaurès]
URL:https://www.lemelies.com/evenement/le-melies-cultes-4/
CATEGORIES:Évènement
ATTACH;FMTTYPE=image/jpeg:https://www.lemelies.com/wp-content/uploads/2024/12/Re_Zatoichi-scaled.jpg
END:VEVENT
BEGIN:VEVENT
DTSTART;TZID=Europe/Paris:20251002T193000
DTEND;TZID=Europe/Paris:20251002T193000
DTSTAMP:20260421T040311
CREATED:20250929T145456Z
LAST-MODIFIED:20250929T145456Z
UID:10000398-1759433400-1759433400@www.lemelies.com
SUMMARY:Soirée de rentrée association Cultures d’Afrique
DESCRIPTION:Projection du film GERMAINE ACOGNY\, L’ESSENCE DE LA DANSE suivie d’un débat sur les différentes pratiques de la danse avec 4 compagnies invitées : Bomboro Kosso & Doni Doni (musique et danse)\, le Grand Delta\, les Carcasses Célestes\, NomaG. \nSoirée festive qui se poursuivra autour d’un verre et de petites surprises culinaires et surtout\, vous pourrez danser !
URL:https://www.lemelies.com/evenement/soiree-de-rentree-association-cultures-dafrique/
LOCATION:Le Méliès Saint-François\, 8 rue de la valse\, Saint-Etienne\, 42000\, France
CATEGORIES:Évènement
ATTACH;FMTTYPE=image/jpeg:https://www.lemelies.com/wp-content/uploads/2025/09/DKGRHQFH.jpg
END:VEVENT
END:VCALENDAR