BEGIN:VCALENDAR
VERSION:2.0
PRODID:-//Le Melies - ECPv6.0.13.1//NONSGML v1.0//EN
CALSCALE:GREGORIAN
METHOD:PUBLISH
X-WR-CALNAME:Le Melies
X-ORIGINAL-URL:https://www.lemelies.com
X-WR-CALDESC:évènements pour Le Melies
REFRESH-INTERVAL;VALUE=DURATION:PT1H
X-Robots-Tag:noindex
X-PUBLISHED-TTL:PT1H
BEGIN:VTIMEZONE
TZID:Europe/Paris
BEGIN:DAYLIGHT
TZOFFSETFROM:+0100
TZOFFSETTO:+0200
TZNAME:CEST
DTSTART:20250330T010000
END:DAYLIGHT
BEGIN:STANDARD
TZOFFSETFROM:+0200
TZOFFSETTO:+0100
TZNAME:CET
DTSTART:20251026T010000
END:STANDARD
END:VTIMEZONE
BEGIN:VEVENT
DTSTART;TZID=Europe/Paris:20250917T190000
DTEND;TZID=Europe/Paris:20250928T110000
DTSTAMP:20260421T091156
CREATED:20250206T170809Z
LAST-MODIFIED:20250905T144735Z
UID:10000329-1758135600-1759057200@www.lemelies.com
SUMMARY:Méliès Classiques #3 // QUAND SOUFFLE LE VENT
DESCRIPTION:Une occasion unique de découvrir ou de (re)voir les films qui ont marqué l’histoire du cinéma. \nQUAND SOUFFLE LE VENT \n\nMERCREDI 17 SEPT. À 19H00 [Saint-François]\nVENDREDI 19 SEPT. À 13H50 [Saint-François\nDIMANCHE 21 SEPT. À 18H15 [Saint-François]\nDIMANCHE 28 SEPT. À 11H00 [Jean Jaurès]
URL:https://www.lemelies.com/evenement/melies-classiques-3/
CATEGORIES:Évènement
ATTACH;FMTTYPE=image/jpeg:https://www.lemelies.com/wp-content/uploads/2025/09/b180821c8be97246ab2e771cfd7b37c4.jpg
END:VEVENT
BEGIN:VEVENT
DTSTART;TZID=Europe/Paris:20250920T200000
DTEND;TZID=Europe/Paris:20250928T110000
DTSTAMP:20260421T091156
CREATED:20241208T165219Z
LAST-MODIFIED:20250905T121350Z
UID:10000297-1758398400-1759057200@www.lemelies.com
SUMMARY:Le Méliès Cultes #3 // KARATE KID
DESCRIPTION:Au Méliès on laisse pas les films cultes dans un coin\, vous les avez en dvd on vous les propose au ciné ! \nKARATE KID \n\nSAMEDI 20 SEPT. À 20H00 [Saint-François]\nDIMANCHE 21 SEPT À 15H50 [Saint-François]\nDIMANCHE 28 SEPT À 11H00 [Jean Jaurès]
URL:https://www.lemelies.com/evenement/le-melies-cultes-3/
CATEGORIES:Évènement
ATTACH;FMTTYPE=image/jpeg:https://www.lemelies.com/wp-content/uploads/2024/12/262795.jpg
END:VEVENT
BEGIN:VEVENT
DTSTART;TZID=Europe/Paris:20250925T200000
DTEND;TZID=Europe/Paris:20250925T200000
DTSTAMP:20260421T091156
CREATED:20250904T170305Z
LAST-MODIFIED:20250915T102540Z
UID:10000391-1758830400-1758830400@www.lemelies.com
SUMMARY:Ciné-concert : "Space Is The Place Remixed" Sun Ra
DESCRIPTION:19h00 : Ouverture des portes / buvette et restauration par l’association Le Brouillon\n20h00 : Ciné-concert\n\nLe concert audiovisuel Space Is The Place remixed est une relecture musicale et immersive du film éponyme de 1974 dans lequel le pianiste et compositeur\, Sun Ra déploie sa pensée artistique et politique.\nLa création visuelle est un collage joué en direct\, mixant prises de vues captées de concert\, science-fiction DIY\, blaxploitation\, mythologie égyptienne. Il met en parallèle les aventures spatiales des sondes Voyager lancées par la NASA en 1977. \nLa bande son est constituée de compositions originales incluant musiques\, dialogues et sons du film. Cette nouvelle bande musicale\, à la confluence entre musiques électroniques ambiantes\, space jazz et cosmic techno/house constitue le fil conducteur du spectacle\, à laquelle vient s’adjoindre des musiques additionnelles s’inscrivant dans la cosmologie du Sun Ra Arkestra : Flying Lotus\, Build An Ark\, Anthony Naples\, Space Afrika…! \nImages & live vidéo : Renaud Vercey \nMusique : Switch Groove \nTarifs : 6 € en prévente en ligne sur helloasso.com/associations/le-brouillon   /  8 € sur place \n 
URL:https://www.lemelies.com/evenement/cine-concert-space-is-the-place-remixed-sun-ra/
LOCATION:Le Méliès Saint-François\, 8 rue de la valse\, Saint-Etienne\, 42000\, France
CATEGORIES:Évènement
ATTACH;FMTTYPE=image/jpeg:https://www.lemelies.com/wp-content/uploads/2025/09/Solar_Brouillon-e1757005024605.jpg
END:VEVENT
END:VCALENDAR