BEGIN:VCALENDAR
VERSION:2.0
PRODID:-//Le Melies - ECPv6.0.13.1//NONSGML v1.0//EN
CALSCALE:GREGORIAN
METHOD:PUBLISH
X-WR-CALNAME:Le Melies
X-ORIGINAL-URL:https://www.lemelies.com
X-WR-CALDESC:évènements pour Le Melies
REFRESH-INTERVAL;VALUE=DURATION:PT1H
X-Robots-Tag:noindex
X-PUBLISHED-TTL:PT1H
BEGIN:VTIMEZONE
TZID:Europe/Paris
BEGIN:DAYLIGHT
TZOFFSETFROM:+0100
TZOFFSETTO:+0200
TZNAME:CEST
DTSTART:20250330T010000
END:DAYLIGHT
BEGIN:STANDARD
TZOFFSETFROM:+0200
TZOFFSETTO:+0100
TZNAME:CET
DTSTART:20251026T010000
END:STANDARD
END:VTIMEZONE
BEGIN:VEVENT
DTSTART;TZID=Europe/Paris:20250221T190000
DTEND;TZID=Europe/Paris:20250221T190000
DTSTAMP:20260424T020328
CREATED:20250120T171925Z
LAST-MODIFIED:20250212T162127Z
UID:10000315-1740164400-1740164400@www.lemelies.com
SUMMARY:LA NUIT LYNCH
DESCRIPTION:Hommage au cinéaste DAVID LYNCH (1946 – 2025) : 3 grands films + plein de bonus \nPASS 3 films = 12€ / PASS 2 films = 10€ (film à l’unité = tarifs habituels)\n\nOuverture de la buvette dès 18h30\n19h00 / ELEPHANT MAN (1980 – 2h05)\n21h30 / LOST HIGHWAY (1997 – 2h15)\n00h00 / MULHOLLAND DRIVE (2001- 2h26)
URL:https://www.lemelies.com/evenement/la-nuit-lynch/
LOCATION:Le Méliès Saint-François\, 8 rue de la valse\, Saint-Etienne\, 42000\, France
CATEGORIES:Évènement
ATTACH;FMTTYPE=image/png:https://www.lemelies.com/wp-content/uploads/2025/01/La-Nuit-Lynch-Carre-scaled-1.png
END:VEVENT
BEGIN:VEVENT
DTSTART;TZID=Europe/Paris:20250222T123000
DTEND;TZID=Europe/Paris:20250222T234500
DTSTAMP:20260424T020328
CREATED:20250212T162828Z
LAST-MODIFIED:20250313T205249Z
UID:10000332-1740227400-1740267900@www.lemelies.com
SUMMARY:GET ON THE BUS à Roanne
DESCRIPTION:Sortie GET ON THE BUS à Roanne\, au festival international du court-métrage d’animation :\n\n\nDépart 12h30 du Méliès Jean Jaurès\nAu programme (à partir de 14 ans):\n14h30 : compétition nationale 1 (75′) – 9 films16h30 : compétition internationale 2 (75′) – 8 films18h30 : compétition nationale 2 (75′) – 9 films21h – 21h30 : pause21h45 : séance spéciale : nuit du fantastique + sélection best of (120 minutes) environ 17 films\n\n\nTarif : 35euros (aller-retour à Roanne + 5 séances de court-métrage)\nRéservations : en caisse au Méliès Jean Jaurès AVANT LE 5 MARS\nUne journée riche en perspective aux cotés de l’équipe du Méliès !Le meilleur du court métrage d’animation pour adultes à découvrir !\n\n\nProgramme du festival : https://animationfestival.roanne.fr/…/2025_CINE_COURT…\nSite : https://animationfestival.roanne.fr/…/programme-2025…
URL:https://www.lemelies.com/evenement/get-on-the-bus-a-roanne/
LOCATION:Le Méliès Jean Jaurès\, 10 place de Jean Jaurès\, Saint-Etienne\, 42000\, France
CATEGORIES:Évènement
ATTACH;FMTTYPE=image/png:https://www.lemelies.com/wp-content/uploads/2025/02/Capture-decran-2025-02-11-a-18.26.52.png
END:VEVENT
BEGIN:VEVENT
DTSTART;TZID=Europe/Paris:20250227T201000
DTEND;TZID=Europe/Paris:20250227T201000
DTSTAMP:20260424T020328
CREATED:20250206T162357Z
LAST-MODIFIED:20250206T162357Z
UID:10000328-1740687000-1740687000@www.lemelies.com
SUMMARY:Ciné-Rencontre avec Zelba et Syrcé // BONJOUR L'ASILE
DESCRIPTION:Soirée « L’engagement féministe et citoyen dans la bande dessinée »\nProjection du film BONJOUR L’ASILE + échange avec les autrices Zelba et Syrcé animé par l’association Nous Toutes 42 en partenariat avec la librairie Les Intrus.
URL:https://www.lemelies.com/evenement/cine-rencontre-avec-zelba-et-syrce-bonjour-lasile/
LOCATION:Le Méliès Jean Jaurès\, 10 place de Jean Jaurès\, Saint-Etienne\, 42000\, France
CATEGORIES:Évènement
ATTACH;FMTTYPE=image/webp:https://www.lemelies.com/wp-content/uploads/2025/02/e1dcf7edfcb78368c6a6103d19d91842.webp
END:VEVENT
BEGIN:VEVENT
DTSTART;TZID=Europe/Paris:20250228T190000
DTEND;TZID=Europe/Paris:20250228T230000
DTSTAMP:20260424T020328
CREATED:20250211T164459Z
LAST-MODIFIED:20250211T164459Z
UID:10000331-1740769200-1740783600@www.lemelies.com
SUMMARY:Les Courts Métrages Nommés aux CÉSAR 2025
DESCRIPTION:Programme #1 // 19h00 (durée totale : 1h40)\n\n– QUEEN SIZE – Avril Besson\n– BEURK ! – Loïc Espuche\n– CE QUI APPARTIENT À CÉSAR – Violette Gitton\n– PAPILLON – Florence Miailhe\n– UN CŒUR PERDU ET AUTRES RÊVES DE BEYROUTH – Maya Abdul-Malak \n\nProgramme #2 // 21h00 (durée totale : 2h00)\n\n– BOUCAN – Salomé Da Souza\n– GIGI – Cynthia Calvi\n– L’HOMME QUI NE SE TAISAIT PAS – Nebojša Slijepčević\n– LES FIANCÉES DU SUD – Elena López Riera\n– PETIT SPARTACUS – Sara Ganem \nChaque programme est aux tarifs habituels du Méliès
URL:https://www.lemelies.com/evenement/les-courts-metrages-nommes-aux-cesar-2025/
LOCATION:Le Méliès Saint-François\, 8 rue de la valse\, Saint-Etienne\, 42000\, France
CATEGORIES:Évènement
ATTACH;FMTTYPE=image/jpeg:https://www.lemelies.com/wp-content/uploads/2025/02/JOWAB-1.jpg
END:VEVENT
BEGIN:VEVENT
DTSTART;TZID=Europe/Paris:20250304T150000
DTEND;TZID=Europe/Paris:20250304T150000
DTSTAMP:20260424T020328
CREATED:20241012T125750Z
LAST-MODIFIED:20250211T171229Z
UID:10000250-1741100400-1741100400@www.lemelies.com
SUMMARY:Ciné-Lecture // UNE GUITARE À LA MER
DESCRIPTION:Projection du film UNE GUITARE À LA MER + lectures d’histoire de capybaras et autres surprises par La Librairie des Croquelinottes
URL:https://www.lemelies.com/evenement/cine-lecture-bambi-lhistoire-dune-vie-dans-les-bois/
LOCATION:Le Méliès Saint-François\, 8 rue de la valse\, Saint-Etienne\, 42000\, France
CATEGORIES:Évènement
ATTACH;FMTTYPE=image/jpeg:https://www.lemelies.com/wp-content/uploads/2024/10/GUITARE_AFF_120x160-scaled.jpg
END:VEVENT
BEGIN:VEVENT
DTSTART;TZID=Europe/Paris:20250306T200000
DTEND;TZID=Europe/Paris:20250306T200000
DTSTAMP:20260424T020328
CREATED:20250302T184543Z
LAST-MODIFIED:20250305T162118Z
UID:10000333-1741291200-1741291200@www.lemelies.com
SUMMARY:Ciné-Débat // YOUNG HEARTS
DESCRIPTION:Projection du film YOUNG HEARTS précédée d’une conférence sur le coming-out au cinéma par Olivier Bachelard (critique chez Abus de ciné)\, \nen présence des associations LGBTQIA+ Festival Face à Face\, ENIPSE\, Collectif Fiertés\, TransAide et Démineurs
URL:https://www.lemelies.com/evenement/cine-debat-young-hearts/
LOCATION:Le Méliès Jean Jaurès\, 10 place de Jean Jaurès\, Saint-Etienne\, 42000\, France
CATEGORIES:Évènement
ATTACH;FMTTYPE=image/webp:https://www.lemelies.com/wp-content/uploads/2025/03/ebfc1e74ee0d37f041cf6daeafb1b7b0.webp
END:VEVENT
BEGIN:VEVENT
DTSTART;TZID=Europe/Paris:20250307T193000
DTEND;TZID=Europe/Paris:20250307T193000
DTSTAMP:20260424T020328
CREATED:20250304T110508Z
LAST-MODIFIED:20250304T110508Z
UID:10000335-1741375800-1741375800@www.lemelies.com
SUMMARY:Ciné-Rencontre
DESCRIPTION:Soirée « Frontières & exil » avec la MJC de Sainté et la CIMADE\n19h30 : buffet & buvette\n20n30 : projections et discussion avec les jeunes réalisateur.ices de la MJC & La Cimade \nEntrée à prix libre \n\nCOURANTS CONTRAIRES (60’ – documentaire des jeunes de la MJC de Sainté)\n\nAprès la réalisation d’un documentaire sur la frontière franco-italienne\, les jeunes de la MJC de Sainté reprennent la route. Cette fois-ci\, destination Calais pour mener une enquête sur cette ville frontière. Avec les moyens du bords et en seulement quelques jours\, les jeunes réalisateurices tentent de cerner les enjeux de ce territoire strié de barbelés\, où les initiatives solidaires luttent depuis des années pour continuer à occuper le terrain. \n\nFREE FLOW (27’ – fiction – Sâm Mirhosseini)\n\nZak travaille dans le port de Dunkerque. Iranien\, il a obtenu la nationalité française après plusieurs années passées dans la Légion étrangère. Keivan est lui aussi iranien. Il vient d’échouer sur les côtes de la Manche\, l’espoir rivé vers l’Angleterre. Il tentera de profiter de l’acces privilégié de Lak au port pour traverser la Manche. Mais Lak est-il prêt a aider son compatriote ?
URL:https://www.lemelies.com/evenement/cine-rencontre-12/
LOCATION:Le Méliès Saint-François\, 8 rue de la valse\, Saint-Etienne\, 42000\, France
CATEGORIES:Évènement
ATTACH;FMTTYPE=image/png:https://www.lemelies.com/wp-content/uploads/2025/03/flyMJC-CIMADE-recto.png
END:VEVENT
BEGIN:VEVENT
DTSTART;TZID=Europe/Paris:20250308T193000
DTEND;TZID=Europe/Paris:20250308T193000
DTSTAMP:20260424T020328
CREATED:20230513T203337Z
LAST-MODIFIED:20250305T164337Z
UID:10000017-1741462200-1741462200@www.lemelies.com
SUMMARY:Grand Quiz du mois "FEMALE RAGE"
DESCRIPTION: 19h30 > Grand Quiz du mois spécial « FEMALE RAGE »\n\nVenez vous affronter seul(e)\, en équipe ou entre amis\, et dans la bonne humeur\, autour d’un grand quiz ciné en salle et sur grand écran. Extraits de film\, bandes-originales à reconnaître\, etc…\nEntrée à prix libre – buvette ouverte à partir de 19h00 \n\n20h30 > Projection du film PORTRAIT DE LA JEUNE FILLE EN FEU (tarif habituels)
URL:https://www.lemelies.com/evenement/le-grand-quiz-du-mois/
LOCATION:Le Méliès Saint-François\, 8 rue de la valse\, Saint-Etienne\, 42000\, France
CATEGORIES:Évènement
ATTACH;FMTTYPE=image/jpeg:https://www.lemelies.com/wp-content/uploads/2023/05/pjff120x160-scaled.jpg
END:VEVENT
BEGIN:VEVENT
DTSTART;TZID=Europe/Paris:20250311T090000
DTEND;TZID=Europe/Paris:20250311T090000
DTSTAMP:20260424T020328
CREATED:20241106T165158Z
LAST-MODIFIED:20250304T111335Z
UID:10000276-1741683600-1741683600@www.lemelies.com
SUMMARY:Ciné-Cuisine // BLACK DOG
DESCRIPTION:9h-12h > Atelier  cuisine chinoise à La Tablée\, cantine de quartier (Réservations sur le site de La Tablée)\n12h00 > Repas partagé\n14h15 > Projection du film BLACK DOG\n\nAtelier et repas à prix libre\, film aux tarifs habituels du Méliès
URL:https://www.lemelies.com/evenement/cine-cuisine-corse-le-royaume/
LOCATION:Le Méliès Jean Jaurès\, 10 place de Jean Jaurès\, Saint-Etienne\, 42000\, France
CATEGORIES:Évènement
ATTACH;FMTTYPE=image/jpeg:https://www.lemelies.com/wp-content/uploads/2024/11/BlackDog_AFFICHE_120x160_FC_JPG.jpg
END:VEVENT
BEGIN:VEVENT
DTSTART;TZID=Europe/Paris:20250313T203000
DTEND;TZID=Europe/Paris:20250313T203000
DTSTAMP:20260424T020328
CREATED:20250305T171551Z
LAST-MODIFIED:20250305T171551Z
UID:10000337-1741897800-1741897800@www.lemelies.com
SUMMARY:Ciné-Débat // BLACK BOX DIARIES
DESCRIPTION:« La protection juridique des personnes victimes de VHSS »\nProjection du film BLACK BOX DIARIES + débat avec le barreau de Saint-Étienne\, l’AEJDL et l’AMJPP
URL:https://www.lemelies.com/evenement/cine-debat-black-box-diaries/
LOCATION:Le Méliès Jean Jaurès\, 10 place de Jean Jaurès\, Saint-Etienne\, 42000\, France
CATEGORIES:Évènement
ATTACH;FMTTYPE=image/jpeg:https://www.lemelies.com/wp-content/uploads/2025/03/120_BBD.jpg
END:VEVENT
BEGIN:VEVENT
DTSTART;TZID=Europe/Paris:20250314T190000
DTEND;TZID=Europe/Paris:20250315T203000
DTSTAMP:20260424T020328
CREATED:20250306T163015Z
LAST-MODIFIED:20250306T163015Z
UID:10000339-1741978800-1742070600@www.lemelies.com
SUMMARY:La Méliès BATTLE fête ses 5 ans
DESCRIPTION:Ven 14 mars 19h00 [Jean Jaurès] : LE PETIT FUGITIF – introduction au film par Sylvain Pichon (co-directeur et programmateur du Méliès) – tarifs habituels du Méliès\nVen 14 mars 20h30 [Méliès café] : La Boum du Méliès – C’est le moment de se rencontrer\, de s’amuser et de souffler les 5 bougies de la BATTLE ! Soirée déguisée (thème cinéma) DJ mix spécial musiques de films par le collectif stéphanois Les Bugnes – entrée libre\nSam 15 mars 14h00 [Jean Jaurès] : Conférence «Petite histoire des salles de Cinéma à Saint-Étienne» Par Mikaël Duarte\, Docteur en Histoire\, qui a travaillé sur la carte des salles de cinéma de Saint-Étienne de la Cinémathèque. Il prépare un livre collectif sur la mémoire du cinéma à Saint-Étienne – entrée libre\nSam 15 mars 18h10 [Saint-François] : RICKY BOBBY : ROI DU CIRCUIT – introduction au film par Sabrina «Margret Fullded»\, membre de la BATTLE et spécialiste du comédien Will Ferrell\, elle a lancé la tradition du Will du Samedi en postant un extrait de Will Ferrell chaque samedi\, quelque soit le thème (124 Will du Samedi à son actif !) – tarifs habituels du Méliès\nSam 15 mars 20h30 [Saint-François] : LE GRAND BLOND AVEC UNE CHAUSSURE NOIRE + dégustation de vin du Domaine Pierre Richard\, animée par Marie Bouteille (œnologue\, caviste et membre clé de la BATTLE) – tarifs habituels du Méliès + 3€
URL:https://www.lemelies.com/evenement/la-melies-battle-fete-ses-5-ans/
CATEGORIES:Évènement
ATTACH;FMTTYPE=image/png:https://www.lemelies.com/wp-content/uploads/2025/03/5-ANS-BATTLE.png
END:VEVENT
BEGIN:VEVENT
DTSTART;TZID=Europe/Paris:20250316T190000
DTEND;TZID=Europe/Paris:20250316T190000
DTSTAMP:20260424T020328
CREATED:20250306T154946Z
LAST-MODIFIED:20250306T154946Z
UID:10000338-1742151600-1742151600@www.lemelies.com
SUMMARY:Ciné-Rencontre // PEACHES GOES BANANAS
DESCRIPTION:Projection du film PEACHES GOES BANANAS + rencontre visio avec avec la réalisatrice Marie Losier animée par Jacopo Rasmi (ciné-club Murmures) & Théo Deliyannis (cinéaste)
URL:https://www.lemelies.com/evenement/cine-rencontre-peaches-goes-bananas/
LOCATION:Le Méliès Jean Jaurès\, 10 place de Jean Jaurès\, Saint-Etienne\, 42000\, France
CATEGORIES:Évènement
ATTACH;FMTTYPE=image/jpeg:https://www.lemelies.com/wp-content/uploads/2025/03/Y88V4-2-1.jpg
END:VEVENT
BEGIN:VEVENT
DTSTART;TZID=Europe/Paris:20250320T203000
DTEND;TZID=Europe/Paris:20250320T203000
DTSTAMP:20260424T020328
CREATED:20250205T175325Z
LAST-MODIFIED:20250306T170900Z
UID:10000326-1742502600-1742502600@www.lemelies.com
SUMMARY:Ciné-Rencontre // MAGMA
DESCRIPTION:Projection du film MAGMA en présence du réalisateur Cyprien Vial
URL:https://www.lemelies.com/evenement/cine-rencontre-magma/
LOCATION:Le Méliès Jean Jaurès\, 10 place de Jean Jaurès\, Saint-Etienne\, 42000\, France
CATEGORIES:Évènement
ATTACH;FMTTYPE=image/jpeg:https://www.lemelies.com/wp-content/uploads/2025/02/Z03WA-11.jpg
END:VEVENT
BEGIN:VEVENT
DTSTART;TZID=Europe/Paris:20250321T190000
DTEND;TZID=Europe/Paris:20250323T193000
DTSTAMP:20260424T020328
CREATED:20250305T170211Z
LAST-MODIFIED:20250318T140953Z
UID:10000336-1742583600-1742758200@www.lemelies.com
SUMMARY:Sainté fête le court - édition #0
DESCRIPTION:Vendredi 21 mars (Saint-François) – Sainté fête le court – jour #1\n\n\n> 19h – Programme #1 : « Cour[t]s à Sainté » – 51min – Prix libre\nEn présence des réalisateur.ices / en partenariat avec le Festival Nouveaux Rêves et le Kino 3000\n– CAFARD de Léon Exbrayat (18 min – Fiction)\n– UN RÊVE À SOI de Lucas Bustos Topage (23 min – Fiction)\n– CELLE QU’ON AIME de Inès Dhahbi (3 min – Clip musical)\n– T’AS PAS L’IMPRESSION DE PRENDRE TOUTE LA COUV’ d’Alice Masera (6′ – Fiction) \n> 20h45 – Programme #2 : « Cour[t]s from Gaza » – Tarifs habituels\nDiffusion des films du projet FROM GROUND ZERO en partenariat avec BDS 42 :\n22 courts-métrages empruntant à différents genres (fiction\, documentaire\, docu-fiction\, animation voire expérimental) qui illustre la fertilité créative et dresse un état des lieux authentique\, brut et profondément humain de la situation de la population gazaouie. \n  \n\n\nDimanche 23 mars (Jean Jaurès & Saint François) – Sainté fête le court – jour #2 – Tarif printemps du cinéma 5€\n\n\n11h (Jean Jaurès) – Programme #3 : « Générations animés japonais » – 1h17\n– GRENDIZER (GOLDORAK) de Tomoharu Katsumata (1976 – 25 min- Japon – Animation)\n– CAPTAIN FUTURE (CAPITAINE FLAM) de Tomoharu Katsumata (1978 – 27 min – Japon – Animation)\n– CAPTAIN HARLOCK (ALBATOR) de Rintaro (1978 – 23 min – Japon – Animation) \n14h (Saint-François) – Programme #4 : « Talents d’aujourd’hui – part. 1 » – 1h39\n– CE QUI APPARTIENT À CÉSAR de Violette Gitton (2023 – 18 min – France – Fiction)\n– LA PHOTOGRAPHE de Alexander Graeff (2023 – 21 min – France – Fiction)\n– GIGI de Cynthia Calvi (2023 – 14 min – France – Animation\, Documentaire)\n– L’AÎNÉE de Alma Jodorowsky (2024 – 19 min- France – Fiction)\n– SULEYMAN de Mehdi Hamnane\, Yanis Hamnane (2023 – 27 min – France – Fiction) \n16h (Saint-François) – Programme #5 : « Talents d’aujourd’hui – part. 2 » – 1h36\n– LES MARQUISES de Adrien Selbert (2023 – 26 min – France – Fiction)\n– LANGUE MATERNELLE de Mariame N’Diaye (2023 – 24 min – France – Fiction)\n– APNÉES de Nicolas Panay (2023 – 17 min – France – Fiction)\n– PETIT SPARTACUS de Sara Ganem (2023 – 28 min – France – Documentaire\, Fiction) \n> 18h (Saint-François) – Programme #6 : « Les hommes qu’on aime » – 1h13\n– BEAUTIFUL MEN de Nicolas Keppens (2023 – 19 min – Belgique – Animation)\n– LES BELLES CICATRICES de Raphaël Jouzeau (2024 – 15 min – France – Animation)\n– AFERRADO de Esteban Azuela (2024 – 18 min – Mexique – Animation)\n– PENTOLA de Leo Černic (2022 – 7 min – Italie – Animation)\n– HURIKÁN de Jan Saska (2024 – 13 min – République Tchèque – Animation) \n> 19h30 (Saint-François) – Programme #7 : « Le programme qui fait genre » – 1h33\n– LES LIENS DU SANG de Hakim Atoui (2024 – 19 min – France\, Belgique – Fiction)\n– LUI de Matthias Couquet (2024 – 11 min – France – Fiction)\n– GIRLS de Julien Hosmalin (2024 – 21 min – France – Fiction)\n– STUFFED de Louise Labrousse (2024 – 10 min – France – Animation)\n– FAMILIAR de Marco Novoa (2024 – 19 min – France – Fiction)\n– MEAT PUPPET de Eros V (2024 – 12 min – Royaume-Uni – Fiction)
URL:https://www.lemelies.com/evenement/sainte-fete-le-court-edition-0/
CATEGORIES:Évènement
ATTACH;FMTTYPE=image/jpeg:https://www.lemelies.com/wp-content/uploads/2025/03/Sainte-fete-le-court-scaled.jpg
END:VEVENT
END:VCALENDAR