BEGIN:VCALENDAR
VERSION:2.0
PRODID:-//Le Melies - ECPv6.0.13.1//NONSGML v1.0//EN
CALSCALE:GREGORIAN
METHOD:PUBLISH
X-WR-CALNAME:Le Melies
X-ORIGINAL-URL:https://www.lemelies.com
X-WR-CALDESC:évènements pour Le Melies
REFRESH-INTERVAL;VALUE=DURATION:PT1H
X-Robots-Tag:noindex
X-PUBLISHED-TTL:PT1H
BEGIN:VTIMEZONE
TZID:Europe/Paris
BEGIN:DAYLIGHT
TZOFFSETFROM:+0100
TZOFFSETTO:+0200
TZNAME:CEST
DTSTART:20240331T010000
END:DAYLIGHT
BEGIN:STANDARD
TZOFFSETFROM:+0200
TZOFFSETTO:+0100
TZNAME:CET
DTSTART:20241027T010000
END:STANDARD
END:VTIMEZONE
BEGIN:VEVENT
DTSTART;TZID=Europe/Paris:20240607T203000
DTEND;TZID=Europe/Paris:20240607T203000
DTSTAMP:20260421T212318
CREATED:20240531T082932Z
LAST-MODIFIED:20240605T163552Z
UID:10000194-1717792200-1717792200@www.lemelies.com
SUMMARY:Ciné-rencontre : Paul B. Preciado
DESCRIPTION:Projection du film ORLANDO\, MA BIOGRAPHIE POLITIQUE suivie d’une discussion en présence du réalisateur et philosophe Paul B. Preciado et en partenariat avec la librairie Lune et l’Autre
URL:https://www.lemelies.com/evenement/cine-rencontre-9/
LOCATION:Le Méliès Jean Jaurès\, 10 place de Jean Jaurès\, Saint-Etienne\, 42000\, France
CATEGORIES:Évènement
ATTACH;FMTTYPE=image/webp:https://www.lemelies.com/wp-content/uploads/2024/05/a08ec3b6849a57ff7bf064d55f9e2e70.webp
END:VEVENT
BEGIN:VEVENT
DTSTART;TZID=Europe/Paris:20240610T202000
DTEND;TZID=Europe/Paris:20240610T205000
DTSTAMP:20260421T212318
CREATED:20240603T124718Z
LAST-MODIFIED:20240605T074953Z
UID:10000204-1718050800-1718052600@www.lemelies.com
SUMMARY:LA VIE PLUS BELLE #16
DESCRIPTION:Il y a maintenant plus d’un an\, le plus célèbre feuilleton marseillais s’arrêtait après 18 ans d’activité. Ce sont alors toutes les histoires d’amour\, les tentatives d’enlèvement\, les empoisonnements\, les disputes\, mais aussi les mariages\, les enterrements et les évasions des habitant.es du quartier qui ont pris fin. A 20h20\, heure habituelle de diffusion\, nous étions face à un grand vide… Et ce vide\, nous le remplissons depuis quelques mois maintenant\, en mettant au point une nouvelle version de ce feuilleton à Saint-Etienne\, que l’on a titré LA VIE PLUS BELLE ! Il s’agit d’un remake fabriqué de manière bénévole\, autogéré\, où quiconque peut participer : pas besoin de compétences ni d’expérience !\nPour participer\, écrivez-nous : pblv2@tuta.io\n\nEPISODE #16 : Lundi 10 juin : 20h20 / Samedi 15 juin : 13h00 – au Méliès Jean Jaurès  \nMARATHON La vie plus belle : Samedi 29 juin : 14h00 > 00h00  – au Méliès Saint-François \n  \nEntrée à prix libre reversée à l’opération tickets suspendus du Méliès
URL:https://www.lemelies.com/evenement/la-vie-plus-belle-2/
LOCATION:Le Méliès Jean Jaurès\, 10 place de Jean Jaurès\, Saint-Etienne\, 42000\, France
CATEGORIES:Évènement
ATTACH;FMTTYPE=image/jpeg:https://www.lemelies.com/wp-content/uploads/2024/01/La-vie-plus-belle.jpg
END:VEVENT
BEGIN:VEVENT
DTSTART;TZID=Europe/Paris:20240613T200000
DTEND;TZID=Europe/Paris:20240613T200000
DTSTAMP:20260421T212318
CREATED:20240531T085716Z
LAST-MODIFIED:20240605T163610Z
UID:10000197-1718308800-1718308800@www.lemelies.com
SUMMARY:Ciné-rencontre : SEPTEMBRE SANS ATTENDRE
DESCRIPTION:Projection en avant-première du film SEPTEMBRE SANS ATTENDRE suivie d’une discussion en présence de son réalisateur Jonas Trueba
URL:https://www.lemelies.com/evenement/cine-rencontre-10/
LOCATION:Le Méliès Saint-François\, 8 rue de la valse\, Saint-Etienne\, 42000\, France
CATEGORIES:Évènement
ATTACH;FMTTYPE=image/jpeg:https://www.lemelies.com/wp-content/uploads/2024/05/septembre_sans_attendre-e1717605266789.jpg
END:VEVENT
BEGIN:VEVENT
DTSTART;TZID=Europe/Paris:20240620T183000
DTEND;TZID=Europe/Paris:20240620T183000
DTSTAMP:20260421T212318
CREATED:20240531T090050Z
LAST-MODIFIED:20240531T090050Z
UID:10000198-1718908200-1718908200@www.lemelies.com
SUMMARY:Ciné-concert
DESCRIPTION:Projection du film PACHAMAMA + exposition\, concert et animations organisé par l’association Agitateur de Musique de l’Université Jean Monnet \nTarif 5€ / petite restauration péruvienne sur place
URL:https://www.lemelies.com/evenement/cine-concert-2/
LOCATION:Le Méliès Saint-François\, 8 rue de la valse\, Saint-Etienne\, 42000\, France
CATEGORIES:Évènement
ATTACH;FMTTYPE=image/webp:https://www.lemelies.com/wp-content/uploads/2024/05/5452144.webp
END:VEVENT
BEGIN:VEVENT
DTSTART;TZID=Europe/Paris:20240625T203000
DTEND;TZID=Europe/Paris:20240625T203000
DTSTAMP:20260421T212318
CREATED:20240531T101416Z
LAST-MODIFIED:20240618T085932Z
UID:10000199-1719347400-1719347400@www.lemelies.com
SUMMARY:Ciné-rencontre : SIX PIEDS SUR TERRE
DESCRIPTION:Projection du film SIX PIEDS SUR TERRE suivie d’une discussion en présence du réalisateur Karim Bensalah. \n\nSofiane\, fils d’un ex-diplomate algérien\, a beaucoup voyagé. Installé à Lyon pour ses études\, il est victime d’une décision administrative et vit sous la menace d’une expulsion. Dans l’espoir de régulariser sa situation\, il accepte de travailler pour des pompes funèbres musulmanes. Entre les fêtes\, les rencontres et son emploi\, Sofiane va se découvrir dans un parcours initiatique qui le conduira à construire sa propre identité et passer peu à peu vers l’âge adulte.
URL:https://www.lemelies.com/evenement/cine-rencontre-11/
LOCATION:Le Méliès Jean Jaurès\, 10 place de Jean Jaurès\, Saint-Etienne\, 42000\, France
CATEGORIES:Évènement
ATTACH;FMTTYPE=image/webp:https://www.lemelies.com/wp-content/uploads/2024/05/3625177.webp
END:VEVENT
BEGIN:VEVENT
DTSTART;TZID=Europe/Paris:20240629T140000
DTEND;TZID=Europe/Paris:20240629T235900
DTSTAMP:20260421T212318
CREATED:20231102T123042Z
LAST-MODIFIED:20240603T140945Z
UID:10000074-1719669600-1719705540@www.lemelies.com
SUMMARY:MARATHON LA VIE PLUS BELLE
DESCRIPTION:Il y a maintenant plus d’un an\, le plus célèbre feuilleton marseillais s’arrêtait après 18 ans d’activité. Ce sont alors toutes les histoires d’amour\, les tentatives d’enlèvement\, les empoisonnements\, les disputes\, mais aussi les mariages\, les enterrements et les évasions des habitant.es du quartier qui ont pris fin. A 20h20\, heure habituelle de diffusion\, nous étions face à un grand vide… Et ce vide\, nous le remplissons depuis quelques mois maintenant\, en mettant au point une nouvelle version de ce feuilleton à Saint-Etienne\, que l’on a titré LA VIE PLUS BELLE ! Il s’agit d’un remake fabriqué de manière bénévole\, autogéré\, où quiconque peut participer : pas besoin de compétences ni d’expérience !\nPour participer\, écrivez-nous : pblv2@tuta.io\n> MARATHON La vie plus belle : Samedi 29 juin : 14h00 > minuit  – au Méliès Saint-François \n> EPISODE #16 : Lundi 10 juin : 20h20 / Samedi 15 juin : 13h00 – au Méliès Jean Jaurès \nEntrée à prix libre reversée à l’opération tickets suspendus du Méliès
URL:https://www.lemelies.com/evenement/la-vie-plus-belle/
LOCATION:Le Méliès Saint-François\, 8 rue de la valse\, Saint-Etienne\, 42000\, France
CATEGORIES:Évènement
ATTACH;FMTTYPE=image/jpeg:https://www.lemelies.com/wp-content/uploads/2023/11/LVPB-rvb.jpg
END:VEVENT
BEGIN:VEVENT
DTSTART;TZID=Europe/Paris:20240703T140000
DTEND;TZID=Europe/Paris:20240703T140000
DTSTAMP:20260421T212318
CREATED:20240701T183001Z
LAST-MODIFIED:20240701T183001Z
UID:10000211-1720015200-1720015200@www.lemelies.com
SUMMARY:CINÉ-ATELIER : LA GRANDE AVENTURE DE NON-NON
DESCRIPTION:14H > Atelier cuisine la glace à la carotte de NON NON à La Tablée\, cantine de quartier situé au 15\, rue Robert  (réservation ici)\n15H > Projection du film LA GRANDE AVENTURE DE NON-NON\n16H > Goûter partagé et glacé ! (Prix libre et conscient)
URL:https://www.lemelies.com/evenement/cine-atelier-la-grande-aventure-de-non-non/
LOCATION:Le Méliès Jean Jaurès\, 10 place de Jean Jaurès\, Saint-Etienne\, 42000\, France
CATEGORIES:Évènement
ATTACH;FMTTYPE=image/jpeg:https://www.lemelies.com/wp-content/uploads/2024/07/901U4-4.jpg
END:VEVENT
BEGIN:VEVENT
DTSTART;TZID=Europe/Paris:20240703T200000
DTEND;TZID=Europe/Paris:20240703T200000
DTSTAMP:20260421T212318
CREATED:20240701T182025Z
LAST-MODIFIED:20240701T182119Z
UID:10000210-1720036800-1720036800@www.lemelies.com
SUMMARY:SÉANCE UNIQUE : LES JOURS HEUREUX
DESCRIPTION:Projection unique du documentaire LES JOURS HEUREUX en clôture de la fête du cinéma (5 euros la place)
URL:https://www.lemelies.com/evenement/seance-unique-les-jours-heureux/
LOCATION:Le Méliès Saint-François\, 8 rue de la valse\, Saint-Etienne\, 42000\, France
CATEGORIES:Évènement
ATTACH;FMTTYPE=image/jpeg:https://www.lemelies.com/wp-content/uploads/2024/07/O4AXN-15.jpg
END:VEVENT
BEGIN:VEVENT
DTSTART;TZID=Europe/Paris:20240704T183000
DTEND;TZID=Europe/Paris:20240704T183000
DTSTAMP:20260421T212318
CREATED:20240628T152630Z
LAST-MODIFIED:20240628T152630Z
UID:10000206-1720117800-1720117800@www.lemelies.com
SUMMARY:Ciné-club « Après la révolution »
DESCRIPTION:Soirée festive de fin d’année et lancement du numéro 4 de la revue Après la Révolution\nÀ partir de notre ignorance commune\, ce ciné-club révolutionnaire vous propose d’interroger\, par le visionnage d’une pluralité d’images en mouvement\, la place de la révolution en Chine dans l’histoire des processus révolutionnaires. La séance se poursuivra par un moment convivial à l’occasion duquel sera présenté le numéro 4 du journal Après la Révolution sur le thème de la Production. \nSéance à prix libre et accessible à tous·tes !
URL:https://www.lemelies.com/evenement/cine-club-apres-la-revolution/
LOCATION:Le Méliès Saint-François\, 8 rue de la valse\, Saint-Etienne\, 42000\, France
CATEGORIES:Évènement
ATTACH;FMTTYPE=image/jpeg:https://www.lemelies.com/wp-content/uploads/2024/06/Cine-club-revolutionnaire_240704.jpeg
END:VEVENT
BEGIN:VEVENT
DTSTART;TZID=Europe/Paris:20240705T200000
DTEND;TZID=Europe/Paris:20240705T200000
DTSTAMP:20260421T212318
CREATED:20240628T162245Z
LAST-MODIFIED:20240704T180408Z
UID:10000208-1720209600-1720209600@www.lemelies.com
SUMMARY:Ciné-débat : Pinkwashing Exposed
DESCRIPTION:Projection du documentaire PINKWASHING EXPOSED\, Seattle Fights Back ! + débat organisé par BDS 42 et l’association LGBT+ Fiertés Saint-Étienne pour croiser les regards et se rassembler autour de la solidarité avec la Palestine\, contre les instrumentalisations. \nEntrée à prix libre \nPINKWASHING EXPOSED\, Seattle Fights Back ! \n0h52 | U.S.A. | VOSTA | 2015 | Documentaire | Dean Spade \nLe «pinkwashing» c’est quoi ? Ça désigne les politiques par lesquelles des États violant les droits humains se présentent comme «gay friendly» ou alliés des homosexuel. Le pinkwashing est particulièrement utilisé par Israël pour détourner l’attention de la brutale colonisation de la Palestine. A Seattle\, des associations LGBT et de lutte contre le sida se mobilisent contre l’invitation dans leur ville de la «Rainbow generation» (Génération Arc en ciel)\, une campagne de propagande pro-israélienne.
URL:https://www.lemelies.com/evenement/cine-debat-pinkwashing-exposed-seattle-fights-back/
LOCATION:Le Méliès Saint-François\, 8 rue de la valse\, Saint-Etienne\, 42000\, France
CATEGORIES:Évènement
ATTACH;FMTTYPE=image/jpeg:https://www.lemelies.com/wp-content/uploads/2024/07/MV5BYmRmYmFiOWMtYjdiZi00OTE1LWJmMGItZmM1NDQ1YzAxYmM3XkEyXkFqcGdeQXVyNjc1NjI4MDg@._V1_FMjpg_UX1000_.jpg
END:VEVENT
BEGIN:VEVENT
DTSTART;VALUE=DATE:20240714
DTEND;VALUE=DATE:20240715
DTSTAMP:20260421T212318
CREATED:20240628T163302Z
LAST-MODIFIED:20240702T164751Z
UID:10000209-1720915200-1721001599@www.lemelies.com
SUMMARY:Marathon Miyazaki
DESCRIPTION:5 films du maître de l’animation + 1 repas japonais partagé + 1 quiz \n\n10h30 : Princesse Mononoké (VOSTFR | copie 35mm) ou 11h00 : Ponyo sur la falaise (VF) ou 11h00 : Atelier cuisine\, fabrication de sushis\n12h45 : repas partagé (riz vinaigré + salade de chou + sushis + bière japonaise + eau citronnée)\n14h00 : quiz Miyazaki\n15h00 : Le Voyage de Chihiro (VF)\n17h30 : Porco Rosso (VF)\n19h30 : Le Château dans le ciel (VF)\n\nPass 4 films + quiz + repas partagé = 15 euros\n(réservation/préventes obligatoire avant le 11 juillet aux caisses des Méliès) \nFilm à l’unité = tarifs habituels du Méliès
URL:https://www.lemelies.com/evenement/marathon-miyazaki/
LOCATION:Le Méliès Saint-François\, 8 rue de la valse\, Saint-Etienne\, 42000\, France
CATEGORIES:Évènement
ATTACH;FMTTYPE=image/jpeg:https://www.lemelies.com/wp-content/uploads/2024/06/f04da2db148419d7e7f04f.jpg
END:VEVENT
END:VCALENDAR