BEGIN:VCALENDAR
VERSION:2.0
PRODID:-//Le Melies - ECPv6.0.13.1//NONSGML v1.0//EN
CALSCALE:GREGORIAN
METHOD:PUBLISH
X-ORIGINAL-URL:https://www.lemelies.com
X-WR-CALDESC:évènements pour Le Melies
REFRESH-INTERVAL;VALUE=DURATION:PT1H
X-Robots-Tag:noindex
X-PUBLISHED-TTL:PT1H
BEGIN:VTIMEZONE
TZID:Europe/Paris
BEGIN:DAYLIGHT
TZOFFSETFROM:+0100
TZOFFSETTO:+0200
TZNAME:CEST
DTSTART:20260329T010000
END:DAYLIGHT
BEGIN:STANDARD
TZOFFSETFROM:+0200
TZOFFSETTO:+0100
TZNAME:CET
DTSTART:20261025T010000
END:STANDARD
END:VTIMEZONE
BEGIN:VEVENT
DTSTART;TZID=Europe/Paris:20260202T202000
DTEND;TZID=Europe/Paris:20260316T202000
DTSTAMP:20260421T011509
CREATED:20260109T185011Z
LAST-MODIFIED:20260127T143717Z
UID:10000392-1770063600-1773692400@www.lemelies.com
SUMMARY:LA VIE PLUS BELLE - Saison 3
DESCRIPTION:Remake autogéré stéphanois de la célèbre série marseillaise où quiconque peut participer : pas besoin de compétences ni d’expérience ! \n\nPour participer\, écrivez-nous : pblv2@tuta.io\nInsta :@lavie_plusbelle42\n\nÉpisode 3 « Samia anti-validiste » : Lundi 2 février à 20h20\nÉpisode 4 « C’est finito entre Samia et Lucas » : Lundi 16 février à 20h20\nÉpisode 5 « Merdriau tagué ! » : Lundi 2 mars à 20h20\nÉpisode 6 « Nathan\, fan de l’OL ?!!! » : Lundi 16 mars à 20h20\n\nEntrée à prix libre reversée à l’opération tickets suspendus du Méliès
URL:https://www.lemelies.com/evenement/la-vie-plus-belle-3/
LOCATION:Le Méliès Jean Jaurès\, 10 place de Jean Jaurès\, Saint-Etienne\, 42000\, France
CATEGORIES:Évènement
ATTACH;FMTTYPE=image/jpeg:https://www.lemelies.com/wp-content/uploads/2026/01/LVPB-rvb.jpg
END:VEVENT
BEGIN:VEVENT
DTSTART;TZID=Europe/Paris:20260212T162000
DTEND;TZID=Europe/Paris:20260212T162000
DTSTAMP:20260421T011509
CREATED:20250418T154732Z
LAST-MODIFIED:20260127T133917Z
UID:10000356-1770913200-1770913200@www.lemelies.com
SUMMARY:Ciné-Club de l'OSPA // LE GÂTEAU DU PRÉSIDENT
DESCRIPTION:Ciné-Club de l’OSPA (Office Stéphanois Pour les Aînés) \nProjection du film LE GÂTEAU DU PRÉSIDENT suivie d’un échange convivial au café du Méliès
URL:https://www.lemelies.com/evenement/cine-club-de-lospa-les-regles-de-lart/
LOCATION:Le Méliès Jean Jaurès\, 10 place de Jean Jaurès\, Saint-Etienne\, 42000\, France
CATEGORIES:Évènement
ATTACH;FMTTYPE=image/jpeg:https://www.lemelies.com/wp-content/uploads/2025/04/LeGateauDuPresident-A-120x160-1.jpg
END:VEVENT
BEGIN:VEVENT
DTSTART;TZID=Europe/Paris:20260212T200000
DTEND;TZID=Europe/Paris:20260212T200000
DTSTAMP:20260421T011509
CREATED:20260127T135233Z
LAST-MODIFIED:20260127T135233Z
UID:10000464-1770926400-1770926400@www.lemelies.com
SUMMARY:Stand-Up\, humour & liberté d'expression // LENNY
DESCRIPTION:Projection  du film LENNY avec Dustin Hoffman\, suivie d’un échange en présence de Farid Bouabdellah (Arcomik)\, Rossana DiVincenzo (Télérama) et Melissa Rojo (La Petite Loge\, salle de stand-up parisienne) \nEn partenariat avec le Festival ARCOMIK\, du 11 au 21/02
URL:https://www.lemelies.com/evenement/stand-up-humour-liberte-dexpression-lenny/
LOCATION:Le Méliès Saint-François\, 8 rue de la valse\, Saint-Etienne\, 42000\, France
CATEGORIES:Évènement
ATTACH;FMTTYPE=image/jpeg:https://www.lemelies.com/wp-content/uploads/2026/01/1a5d28df17327dabdd5e40a64bb55f49.jpg
END:VEVENT
END:VCALENDAR