BEGIN:VCALENDAR
VERSION:2.0
PRODID:-//Le Melies - ECPv6.0.13.1//NONSGML v1.0//EN
CALSCALE:GREGORIAN
METHOD:PUBLISH
X-ORIGINAL-URL:https://www.lemelies.com
X-WR-CALDESC:évènements pour Le Melies
REFRESH-INTERVAL;VALUE=DURATION:PT1H
X-Robots-Tag:noindex
X-PUBLISHED-TTL:PT1H
BEGIN:VTIMEZONE
TZID:Europe/Paris
BEGIN:DAYLIGHT
TZOFFSETFROM:+0100
TZOFFSETTO:+0200
TZNAME:CEST
DTSTART:20260329T010000
END:DAYLIGHT
BEGIN:STANDARD
TZOFFSETFROM:+0200
TZOFFSETTO:+0100
TZNAME:CET
DTSTART:20261025T010000
END:STANDARD
END:VTIMEZONE
BEGIN:VEVENT
DTSTART;TZID=Europe/Paris:20260202T202000
DTEND;TZID=Europe/Paris:20260316T202000
DTSTAMP:20260421T011509
CREATED:20260109T185011Z
LAST-MODIFIED:20260127T143717Z
UID:10000392-1770063600-1773692400@www.lemelies.com
SUMMARY:LA VIE PLUS BELLE - Saison 3
DESCRIPTION:Remake autogéré stéphanois de la célèbre série marseillaise où quiconque peut participer : pas besoin de compétences ni d’expérience ! \n\nPour participer\, écrivez-nous : pblv2@tuta.io\nInsta :@lavie_plusbelle42\n\nÉpisode 3 « Samia anti-validiste » : Lundi 2 février à 20h20\nÉpisode 4 « C’est finito entre Samia et Lucas » : Lundi 16 février à 20h20\nÉpisode 5 « Merdriau tagué ! » : Lundi 2 mars à 20h20\nÉpisode 6 « Nathan\, fan de l’OL ?!!! » : Lundi 16 mars à 20h20\n\nEntrée à prix libre reversée à l’opération tickets suspendus du Méliès
URL:https://www.lemelies.com/evenement/la-vie-plus-belle-3/
LOCATION:Le Méliès Jean Jaurès\, 10 place de Jean Jaurès\, Saint-Etienne\, 42000\, France
CATEGORIES:Évènement
ATTACH;FMTTYPE=image/jpeg:https://www.lemelies.com/wp-content/uploads/2026/01/LVPB-rvb.jpg
END:VEVENT
BEGIN:VEVENT
DTSTART;TZID=Europe/Paris:20260211T210000
DTEND;TZID=Europe/Paris:20260211T210000
DTSTAMP:20260421T011509
CREATED:20251206T181028Z
LAST-MODIFIED:20260129T172454Z
UID:10000448-1770843600-1770843600@www.lemelies.com
SUMMARY:Ciné-Débat "Panorama des enjeux écologiques en pays ligérien"
DESCRIPTION:Projection du documentaire SOULÈVEMENTS + discussion avec des membres des Soulèvements de la Terre\, le comité local de Montbrison et des luttes locales
URL:https://www.lemelies.com/evenement/cine-debat-journee-international-des-migrants/
LOCATION:Le Méliès Jean Jaurès\, 10 place de Jean Jaurès\, Saint-Etienne\, 42000\, France
CATEGORIES:Évènement
ATTACH;FMTTYPE=image/jpeg:https://www.lemelies.com/wp-content/uploads/2025/12/Affiche-SOULEVEMENTS-scaled.jpg
END:VEVENT
BEGIN:VEVENT
DTSTART;TZID=Europe/Paris:20260211T210000
DTEND;TZID=Europe/Paris:20260211T210000
DTSTAMP:20260421T011509
CREATED:20260129T173117Z
LAST-MODIFIED:20260129T173117Z
UID:10000469-1770843600-1770843600@www.lemelies.com
SUMMARY:Soirée Cluedo Géant // AUCUN AUTRE CHOIX
DESCRIPTION:Projection du film AUCUN AUTRE CHOIX suivie d’un Cluedo géant organisé par les ambassadeur.rices 15-25 du Méliès
URL:https://www.lemelies.com/evenement/soiree-cluedo-geant-aucun-autre-choix/
LOCATION:Le Méliès Jean Jaurès\, 10 place de Jean Jaurès\, Saint-Etienne\, 42000\, France
CATEGORIES:Évènement
ATTACH;FMTTYPE=image/jpeg:https://www.lemelies.com/wp-content/uploads/2026/01/AUCUN-AUTRE-CHOIX-I-120x160_SD-1.jpg
END:VEVENT
END:VCALENDAR