BEGIN:VCALENDAR
VERSION:2.0
PRODID:-//Le Melies - ECPv6.0.13.1//NONSGML v1.0//EN
CALSCALE:GREGORIAN
METHOD:PUBLISH
X-WR-CALNAME:Le Melies
X-ORIGINAL-URL:https://www.lemelies.com
X-WR-CALDESC:évènements pour Le Melies
REFRESH-INTERVAL;VALUE=DURATION:PT1H
X-Robots-Tag:noindex
X-PUBLISHED-TTL:PT1H
BEGIN:VTIMEZONE
TZID:Europe/Paris
BEGIN:DAYLIGHT
TZOFFSETFROM:+0100
TZOFFSETTO:+0200
TZNAME:CEST
DTSTART:20260329T010000
END:DAYLIGHT
BEGIN:STANDARD
TZOFFSETFROM:+0200
TZOFFSETTO:+0100
TZNAME:CET
DTSTART:20261025T010000
END:STANDARD
END:VTIMEZONE
BEGIN:VEVENT
DTSTART;TZID=Europe/Paris:20260202T202000
DTEND;TZID=Europe/Paris:20260316T202000
DTSTAMP:20260421T011350
CREATED:20260109T185011Z
LAST-MODIFIED:20260127T143717Z
UID:10000392-1770063600-1773692400@www.lemelies.com
SUMMARY:LA VIE PLUS BELLE - Saison 3
DESCRIPTION:Remake autogéré stéphanois de la célèbre série marseillaise où quiconque peut participer : pas besoin de compétences ni d’expérience ! \n\nPour participer\, écrivez-nous : pblv2@tuta.io\nInsta :@lavie_plusbelle42\n\nÉpisode 3 « Samia anti-validiste » : Lundi 2 février à 20h20\nÉpisode 4 « C’est finito entre Samia et Lucas » : Lundi 16 février à 20h20\nÉpisode 5 « Merdriau tagué ! » : Lundi 2 mars à 20h20\nÉpisode 6 « Nathan\, fan de l’OL ?!!! » : Lundi 16 mars à 20h20\n\nEntrée à prix libre reversée à l’opération tickets suspendus du Méliès
URL:https://www.lemelies.com/evenement/la-vie-plus-belle-3/
LOCATION:Le Méliès Jean Jaurès\, 10 place de Jean Jaurès\, Saint-Etienne\, 42000\, France
CATEGORIES:Évènement
ATTACH;FMTTYPE=image/jpeg:https://www.lemelies.com/wp-content/uploads/2026/01/LVPB-rvb.jpg
END:VEVENT
BEGIN:VEVENT
DTSTART;TZID=Europe/Paris:20260209T140000
DTEND;TZID=Europe/Paris:20260209T140000
DTSTAMP:20260421T011350
CREATED:20260129T170009Z
LAST-MODIFIED:20260203T144708Z
UID:10000468-1770645600-1770645600@www.lemelies.com
SUMMARY:Séance Inclusive // LES TOUTES PETITES CRÉATURES 2
DESCRIPTION:Projection du film LES TOUTES PETITES CRÉATURES 2 \nSéance adaptée aux personnes en situation de handicap (lumière tamisée\, volume sonore adapté\, possibilité de réactions libres)
URL:https://www.lemelies.com/evenement/seance-inclusive-les-toutes-petites-creatures-2/
LOCATION:Le Méliès Saint-François\, 8 rue de la valse\, Saint-Etienne\, 42000\, France
CATEGORIES:Évènement
ATTACH;FMTTYPE=image/jpeg:https://www.lemelies.com/wp-content/uploads/2026/01/Affiche_les_toutes_petites_creatures_2.jpg
END:VEVENT
BEGIN:VEVENT
DTSTART;TZID=Europe/Paris:20260209T150000
DTEND;TZID=Europe/Paris:20260209T150000
DTSTAMP:20260421T011350
CREATED:20251206T174131Z
LAST-MODIFIED:20260129T170424Z
UID:10000446-1770649200-1770649200@www.lemelies.com
SUMMARY:Ciné-Goûter & Discussion // LA GRANDE RÊVASION
DESCRIPTION:Projection du film LA GRANDE RÊVASION + goûter offert par BIOCOOP Les Arcades + discussion autour du film avec Sonia (association Soleils)
URL:https://www.lemelies.com/evenement/cine-gouter-atelier-la-petite-fanfare-de-noel/
LOCATION:Le Méliès Saint-François\, 8 rue de la valse\, Saint-Etienne\, 42000\, France
CATEGORIES:Évènement
ATTACH;FMTTYPE=image/jpeg:https://www.lemelies.com/wp-content/uploads/2025/12/DEF_AFFICHE-LA-GRANDE-REVASION-scaled-2.jpg
END:VEVENT
END:VCALENDAR