BEGIN:VCALENDAR
VERSION:2.0
PRODID:-//Le Melies - ECPv6.0.13.1//NONSGML v1.0//EN
CALSCALE:GREGORIAN
METHOD:PUBLISH
X-ORIGINAL-URL:https://www.lemelies.com
X-WR-CALDESC:évènements pour Le Melies
REFRESH-INTERVAL;VALUE=DURATION:PT1H
X-Robots-Tag:noindex
X-PUBLISHED-TTL:PT1H
BEGIN:VTIMEZONE
TZID:Europe/Paris
BEGIN:DAYLIGHT
TZOFFSETFROM:+0100
TZOFFSETTO:+0200
TZNAME:CEST
DTSTART:20250330T010000
END:DAYLIGHT
BEGIN:STANDARD
TZOFFSETFROM:+0200
TZOFFSETTO:+0100
TZNAME:CET
DTSTART:20251026T010000
END:STANDARD
END:VTIMEZONE
BEGIN:VEVENT
DTSTART;TZID=Europe/Paris:20251207T103000
DTEND;TZID=Europe/Paris:20251207T103000
DTSTAMP:20260421T035918
CREATED:20241207T194009Z
LAST-MODIFIED:20251201T182020Z
UID:10000292-1765103400-1765103400@www.lemelies.com
SUMMARY:Pochette surprise des Matrus
DESCRIPTION:Accueil petit déjeuner offert par Biocoop les Arcades\nPrésentation des films à venir avec projection des bandes annonces\nFilms surprises en avant-première (à chaque tranche d’âge son film)\n\nTarif : 5€ pour tous
URL:https://www.lemelies.com/evenement/pochette-surprise-des-matrus/
LOCATION:Le Méliès Jean Jaurès\, 10 place de Jean Jaurès\, Saint-Etienne\, 42000\, France
CATEGORIES:Évènement
ATTACH;FMTTYPE=image/jpeg:https://www.lemelies.com/wp-content/uploads/2024/12/POchette_MAtrus-4-scaled.jpg
END:VEVENT
END:VCALENDAR