BEGIN:VCALENDAR
VERSION:2.0
PRODID:-//Le Melies - ECPv6.0.13.1//NONSGML v1.0//EN
CALSCALE:GREGORIAN
METHOD:PUBLISH
X-WR-CALNAME:Le Melies
X-ORIGINAL-URL:https://www.lemelies.com
X-WR-CALDESC:évènements pour Le Melies
REFRESH-INTERVAL;VALUE=DURATION:PT1H
X-Robots-Tag:noindex
X-PUBLISHED-TTL:PT1H
BEGIN:VTIMEZONE
TZID:Europe/Paris
BEGIN:DAYLIGHT
TZOFFSETFROM:+0100
TZOFFSETTO:+0200
TZNAME:CEST
DTSTART:20250330T010000
END:DAYLIGHT
BEGIN:STANDARD
TZOFFSETFROM:+0200
TZOFFSETTO:+0100
TZNAME:CET
DTSTART:20251026T010000
END:STANDARD
END:VTIMEZONE
BEGIN:VEVENT
DTSTART;TZID=Europe/Paris:20250910T205000
DTEND;TZID=Europe/Paris:20250921T110000
DTSTAMP:20260421T110158
CREATED:20250204T142319Z
LAST-MODIFIED:20250905T124515Z
UID:10000323-1757537400-1758452400@www.lemelies.com
SUMMARY:Méliès Classiques #2 // EVE
DESCRIPTION:Une occasion unique de découvrir ou de (re)voir les films qui ont marqué l’histoire du cinéma. \nEVE \n\nMERCREDI 10 SEPT. À 20H50 [Saint-François]\nVENDREDI 12 SEPT. À 17H30 [Saint-François]\nDIMANCHE 14 SEPT. À 15H30 [Saint-François]\nDIMANCHE 21 SEPT. À 11H00 [Jean Jaurès]
URL:https://www.lemelies.com/evenement/melies-classiques-2/
CATEGORIES:Évènement
ATTACH;FMTTYPE=image/jpeg:https://www.lemelies.com/wp-content/uploads/2025/02/91256fc2169a06cfcce7dc1c200cbf58.jpg
END:VEVENT
BEGIN:VEVENT
DTSTART;TZID=Europe/Paris:20250913T200000
DTEND;TZID=Europe/Paris:20250921T170000
DTSTAMP:20260421T110158
CREATED:20241207T214038Z
LAST-MODIFIED:20250905T115722Z
UID:10000293-1757793600-1758474000@www.lemelies.com
SUMMARY:Le Méliès Cultes #2 // BARRY LYNDON
DESCRIPTION:Au Méliès on laisse pas les films cultes dans un coin\, vous les avez en dvd on vous les propose au ciné ! \nBARRY LYNDON \n\nSAMEDI 13 SEPT. À 20H00 [Saint-François]\nDIMANCHE 14 SEPT. À 15H30 [Saint-François]\nDIMANCHE 21 SEPT. À 17H00 [Jean Jaurès]
URL:https://www.lemelies.com/evenement/le-melies-cultes-2/
CATEGORIES:Évènement
ATTACH;FMTTYPE=image/jpeg:https://www.lemelies.com/wp-content/uploads/2025/02/b749ba5305e329b69d2a1842cf2957f4.jpg
END:VEVENT
BEGIN:VEVENT
DTSTART;TZID=Europe/Paris:20250917T190000
DTEND;TZID=Europe/Paris:20250917T190000
DTSTAMP:20260421T110158
CREATED:20250904T160442Z
LAST-MODIFIED:20250904T160442Z
UID:10000389-1758135600-1758135600@www.lemelies.com
SUMMARY:Rencontre Ciné-BD // QUAND SOUFFLE LE VENT
DESCRIPTION:Projection du film QUAND SOUFFLE LE VENT en présence de Tanibis Editions (éditeur de la BD de Raymond Briggs dont est tiré le film) \nPrésentation et vente de la BD
URL:https://www.lemelies.com/evenement/rencontre-cine-bd-quand-souffle-le-vent/
LOCATION:Le Méliès Saint-François\, 8 rue de la valse\, Saint-Etienne\, 42000\, France
CATEGORIES:Évènement
ATTACH;FMTTYPE=image/jpeg:https://www.lemelies.com/wp-content/uploads/2025/09/b180821c8be97246ab2e771cfd7b37c4.jpg
END:VEVENT
BEGIN:VEVENT
DTSTART;TZID=Europe/Paris:20250917T190000
DTEND;TZID=Europe/Paris:20250928T110000
DTSTAMP:20260421T110158
CREATED:20250206T170809Z
LAST-MODIFIED:20250905T144735Z
UID:10000329-1758135600-1759057200@www.lemelies.com
SUMMARY:Méliès Classiques #3 // QUAND SOUFFLE LE VENT
DESCRIPTION:Une occasion unique de découvrir ou de (re)voir les films qui ont marqué l’histoire du cinéma. \nQUAND SOUFFLE LE VENT \n\nMERCREDI 17 SEPT. À 19H00 [Saint-François]\nVENDREDI 19 SEPT. À 13H50 [Saint-François\nDIMANCHE 21 SEPT. À 18H15 [Saint-François]\nDIMANCHE 28 SEPT. À 11H00 [Jean Jaurès]
URL:https://www.lemelies.com/evenement/melies-classiques-3/
CATEGORIES:Évènement
ATTACH;FMTTYPE=image/jpeg:https://www.lemelies.com/wp-content/uploads/2025/09/b180821c8be97246ab2e771cfd7b37c4.jpg
END:VEVENT
END:VCALENDAR