BEGIN:VCALENDAR
VERSION:2.0
PRODID:-//Le Melies - ECPv6.0.13.1//NONSGML v1.0//EN
CALSCALE:GREGORIAN
METHOD:PUBLISH
X-ORIGINAL-URL:https://www.lemelies.com
X-WR-CALDESC:évènements pour Le Melies
REFRESH-INTERVAL;VALUE=DURATION:PT1H
X-Robots-Tag:noindex
X-PUBLISHED-TTL:PT1H
BEGIN:VTIMEZONE
TZID:Europe/Paris
BEGIN:DAYLIGHT
TZOFFSETFROM:+0100
TZOFFSETTO:+0200
TZNAME:CEST
DTSTART:20250330T010000
END:DAYLIGHT
BEGIN:STANDARD
TZOFFSETFROM:+0200
TZOFFSETTO:+0100
TZNAME:CET
DTSTART:20251026T010000
END:STANDARD
END:VTIMEZONE
BEGIN:VEVENT
DTSTART;TZID=Europe/Paris:20250820T190000
DTEND;TZID=Europe/Paris:20250831T110000
DTSTAMP:20260421T122240
CREATED:20250206T171351Z
LAST-MODIFIED:20250818T162802Z
UID:10000330-1755716400-1756638000@www.lemelies.com
SUMMARY:Méliès Classiques #4 // BROKEN MIRRORS
DESCRIPTION:Une occasion unique de découvrir ou de (re)voir les films qui ont marqué l’histoire du cinéma. \nBROKEN MIRRORS \n\nMERCREDI 20 AOÛT À 19H00 [[Jean Jaurès]\nVENDREDI 22 AOÛT À 13H00 [[Jean Jaurès]\nDIMANCHE 24 AOÛT À 18H00 [[Jean Jaurès]\nDIMANCHE 31 AOÛT À 11H00 [Jean Jaurès]
URL:https://www.lemelies.com/evenement/melies-classiques-4/
LOCATION:Le Méliès Jean Jaurès\, 10 place de Jean Jaurès\, Saint-Etienne\, 42000\, France
CATEGORIES:Évènement
ATTACH;FMTTYPE=image/jpeg:https://www.lemelies.com/wp-content/uploads/2025/02/Broken-Mirrors.jpg
END:VEVENT
END:VCALENDAR