BEGIN:VCALENDAR
VERSION:2.0
PRODID:-//Le Melies - ECPv6.0.13.1//NONSGML v1.0//EN
CALSCALE:GREGORIAN
METHOD:PUBLISH
X-ORIGINAL-URL:https://www.lemelies.com
X-WR-CALDESC:évènements pour Le Melies
REFRESH-INTERVAL;VALUE=DURATION:PT1H
X-Robots-Tag:noindex
X-PUBLISHED-TTL:PT1H
BEGIN:VTIMEZONE
TZID:Europe/Paris
BEGIN:DAYLIGHT
TZOFFSETFROM:+0100
TZOFFSETTO:+0200
TZNAME:CEST
DTSTART:20250330T010000
END:DAYLIGHT
BEGIN:STANDARD
TZOFFSETFROM:+0200
TZOFFSETTO:+0100
TZNAME:CET
DTSTART:20251026T010000
END:STANDARD
END:VTIMEZONE
BEGIN:VEVENT
DTSTART;TZID=Europe/Paris:20250711T150000
DTEND;TZID=Europe/Paris:20250711T150000
DTSTAMP:20260422T005816
CREATED:20250701T133845Z
LAST-MODIFIED:20250705T130342Z
UID:10000384-1752246000-1752246000@www.lemelies.com
SUMMARY:Avant-première + goûter // SHAUN LE MOUTON : LA FERME EN FOLIE
DESCRIPTION:Projection du film SHAUN LE MOUTON : LA FERME EN FOLIE en avant-première + goûter
URL:https://www.lemelies.com/evenement/avant-premiere-gouter-shaun-le-mouton-la-ferme-en-folie/
LOCATION:Le Méliès Jean Jaurès\, 10 place de Jean Jaurès\, Saint-Etienne\, 42000\, France
CATEGORIES:Évènement
ATTACH;FMTTYPE=image/jpeg:https://www.lemelies.com/wp-content/uploads/2025/07/UIJEL1QF.jpg
END:VEVENT
END:VCALENDAR