BEGIN:VCALENDAR
VERSION:2.0
PRODID:-//Le Melies - ECPv6.0.13.1//NONSGML v1.0//EN
CALSCALE:GREGORIAN
METHOD:PUBLISH
X-WR-CALNAME:Le Melies
X-ORIGINAL-URL:https://www.lemelies.com
X-WR-CALDESC:évènements pour Le Melies
REFRESH-INTERVAL;VALUE=DURATION:PT1H
X-Robots-Tag:noindex
X-PUBLISHED-TTL:PT1H
BEGIN:VTIMEZONE
TZID:Europe/Paris
BEGIN:DAYLIGHT
TZOFFSETFROM:+0100
TZOFFSETTO:+0200
TZNAME:CEST
DTSTART:20250330T010000
END:DAYLIGHT
BEGIN:STANDARD
TZOFFSETFROM:+0200
TZOFFSETTO:+0100
TZNAME:CET
DTSTART:20251026T010000
END:STANDARD
END:VTIMEZONE
BEGIN:VEVENT
DTSTART;TZID=Europe/Paris:20250708T150000
DTEND;TZID=Europe/Paris:20250708T150000
DTSTAMP:20260422T005725
CREATED:20250630T181647Z
LAST-MODIFIED:20250630T181647Z
UID:10000383-1751986800-1751986800@www.lemelies.com
SUMMARY:Avant-première + lecture // TIMIOCHE
DESCRIPTION:Projection du film d’animation TIMIOCHE en avant-première + lecture
URL:https://www.lemelies.com/evenement/avant-premiere-lecture-timioche/
LOCATION:Le Méliès Saint-François\, 8 rue de la valse\, Saint-Etienne\, 42000\, France
CATEGORIES:Évènement
ATTACH;FMTTYPE=image/jpeg:https://www.lemelies.com/wp-content/uploads/2025/06/TIMIOCHE_LFF-1-scaled.jpeg
END:VEVENT
BEGIN:VEVENT
DTSTART;TZID=Europe/Paris:20250708T190000
DTEND;TZID=Europe/Paris:20250708T190000
DTSTAMP:20260422T005725
CREATED:20250627T114253Z
LAST-MODIFIED:20250627T115612Z
UID:10000381-1752001200-1752001200@www.lemelies.com
SUMMARY:Cinéma & Palestine // ONCE UPON A TIME IN GAZA
DESCRIPTION: » Enjeux politiques et historiques « \nProjection du film ONCE UPON A TIME IN GAZA + débat en partenariat avec PASTEC (Palestinian Sainté Cinéma)
URL:https://www.lemelies.com/evenement/cinema-palestine-once-upon-a-time-in-gaza/
LOCATION:Le Méliès Jean Jaurès\, 10 place de Jean Jaurès\, Saint-Etienne\, 42000\, France
CATEGORIES:Évènement
ATTACH;FMTTYPE=image/jpeg:https://www.lemelies.com/wp-content/uploads/2025/06/S0ZSY2XR-1.jpg
END:VEVENT
END:VCALENDAR